BEGIN:VCALENDAR
VERSION:2.0
PRODID:-//ChamberMaster//Event Calendar 2.0//EN
METHOD:PUBLISH
X-PUBLISHED-TTL:P3D
REFRESH-INTERVAL:P3D
CALSCALE:GREGORIAN
BEGIN:VEVENT
DTSTART:20050126T230000Z
DTEND:20050126T230000Z
X-MICROSOFT-CDO-ALLDAYEVENT:FALSE
SUMMARY:Fast Track Permit Legislation-SEMINAR CANCELED
DESCRIPTION:Speakers: Richard Hluchan\, Esq. - Ballard Spahr
X-ALT-DESC;FMTTYPE=text/html:Speakers: Richard Hluchan\, Esq. - Ballard Spahr
LOCATION:BLSJ Cherry Hill\, NJ 08034
UID:e.9292.1057
SEQUENCE:3
DTSTAMP:20260420T195915Z
URL:https://members.blsj.com/events/details/fast-track-permit-legislation-seminar-canceled-01-26-2005-1057
END:VEVENT

END:VCALENDAR
