BEGIN:VCALENDAR
VERSION:2.0
PRODID:-//ChamberMaster//Event Calendar 2.0//EN
METHOD:PUBLISH
X-PUBLISHED-TTL:P3D
REFRESH-INTERVAL:P3D
CALSCALE:GREGORIAN
BEGIN:VEVENT
DTSTART:20100714T220000Z
DTEND:20100714T220000Z
X-MICROSOFT-CDO-ALLDAYEVENT:FALSE
SUMMARY:FALL GOLF OUTING SUB-COMMITTEE MEETING
DESCRIPTION:
X-ALT-DESC;FMTTYPE=text/html:                   
LOCATION:114 Haddontowne Court Cherry Hill\, NJ 08034
UID:e.9292.976
SEQUENCE:3
DTSTAMP:20260421T120615Z
URL:https://members.blsj.com/events/details/fall-golf-outing-sub-committee-meeting-07-14-2010-976
END:VEVENT

END:VCALENDAR
