BEGIN:VCALENDAR
VERSION:2.0
PRODID:-//ChamberMaster//Event Calendar 2.0//EN
METHOD:PUBLISH
X-PUBLISHED-TTL:P3D
REFRESH-INTERVAL:P3D
CALSCALE:GREGORIAN
BEGIN:VEVENT
DTSTART:20100920T220000Z
DTEND:20100920T220000Z
X-MICROSOFT-CDO-ALLDAYEVENT:FALSE
SUMMARY:FALL GOLF OUTING & POKER RUN - LITTLE MILL COUNTRY CLUB
DESCRIPTION:Annual Fall Golf Outing at the Exclusive Little Mill Country Club Monday\, September 20th\, 2010 Schedule of Events    Registration &Continental Breakfast\n 7:30 a.m. 9:00 a.m. Morning Shotgun Start\n Tournament Format: Scramble\n 9:00 a.m. BBQ Buffet Lunch\n Cocktails\n Awards/Prizes & Dessert\n 2:30 p.m. 5:30 p.m. Outing Includes:\n Greens Fees\n Golf Cart \n Continental Breakfast\n Variety of snacks & beverages \n on the course\n Unlimited use of the practice range\n beer\, gatorade\, water & soft drinks\n BBQ Lunch Buffet\, Dessert\, Coffee\n \n ~~~~~~~~~~~\n BBQ Lunch Buffet Only\n $39.00 per person\n Includes:\n BBQ lunch buffet\, beer\, wine\, soft drinks\n dessert and coffee
X-ALT-DESC;FMTTYPE=text/html:<p style="text-align: center"><span style="font-size: medium"><span style="font-family: Arial">Annual Fall Golf Outing at the Exclusive Little Mill Country Club</span></span></p> <p style="text-align: center"><span style="font-size: medium"><span style="font-family: Arial">Monday\, September 20th\, 2010</span></span></p> <p style="text-align: center"><span style="font-size: medium"><span style="font-family: Arial">Schedule of Events</span></span></p> <p style="text-align: center"><span style="font-size: medium"><span style="font-family: Arial" /></span></p> <p>&nbsp\;</p> <p style="text-align: center">Registration &amp\;Continental Breakfast<br /> 7:30 a.m.&mdash\;9:00 a.m.</p> <p style="text-align: center">Morning Shotgun Start<br /> Tournament Format: Scramble<br /> 9:00 a.m.</p> <p style="text-align: center">BBQ Buffet Lunch<br /> Cocktails<br /> Awards/Prizes &amp\; Dessert<br /> 2:30 p.m.&mdash\;5:30 p.m.</p> <p style="text-align: center">Outing Includes:<br /> Greens Fees<br /> Golf Cart <br /> Continental Breakfast<br /> Variety of snacks &amp\; beverages <br /> on the course<br /> Unlimited use of the practice range<br /> beer\, gatorade\, water &amp\; soft drinks<br /> BBQ Lunch Buffet\, Dessert\, Coffee<br /> <br /> ~~~~~~~~~~~<br /> BBQ Lunch Buffet Only<br /> $39.00 per person<br /> Includes:<br /> BBQ lunch buffet\, beer\, wine\, soft drinks<br /> dessert and coffee <br /> &nbsp\;</p>
LOCATION:104 Bortons Road Marlton\, NJ 08053
UID:e.9292.974
SEQUENCE:3
DTSTAMP:20260421T094129Z
URL:https://members.blsj.com/events/details/fall-golf-outing-poker-run-little-mill-country-club-09-20-2010-974
END:VEVENT

END:VCALENDAR
