BEGIN:VCALENDAR
VERSION:2.0
PRODID:-//ChamberMaster//Event Calendar 2.0//EN
METHOD:PUBLISH
X-PUBLISHED-TTL:P3D
REFRESH-INTERVAL:P3D
CALSCALE:GREGORIAN
BEGIN:VEVENT
DTSTART:20090921T160000Z
DTEND:20090921T160000Z
X-MICROSOFT-CDO-ALLDAYEVENT:FALSE
SUMMARY:FALL GOLF OUTING - LITTLE MILL COUNTRY CLUB - REDUCED GOLF & DINNER PRICING
DESCRIPTION:Annual Fall Golf Outing at the Exclusive Little Mill Country Club\n NEW! REDUCED PRICING FOR GOLF & DINNER Monday\, September 21st\, 2009 Registration/Box Lunch: 9:30 a.m. - 11:00 a.m.\n Shotgun: 11:00 a.m.\n \n Join us for an enjoyable day of golf followed by a BBQ Dinner with open bar\n Dessert & Coffee\n  If you aren't up for a round of golf\, meet us at 4:30 for dinner & drinks
X-ALT-DESC;FMTTYPE=text/html:<p style="text-align: center"><span style="font-size: medium"><span style="font-family: Arial">Annual Fall Golf Outing at the Exclusive Little Mill Country Club<br /> </span><strong><span style="color: #ff0000"><span style="font-family: Arial">NEW! REDUCED PRICING FOR GOLF &amp\; DINNER</span></span></strong><span style="color: #ff0000" /></span></p> <p style="text-align: center"><span style="font-size: medium"><span style="font-family: Arial">Monday\, September 21st\, 2009</span></span></p> <p style="text-align: center"><span style="font-size: medium"><span style="font-family: Arial">Registration/Box Lunch: 9:30 a.m.&nbsp\;- 11:00 a.m.<br /> Shotgun: 11:00 a.m.<br /> <br /> Join us for an enjoyable day of golf followed by a BBQ Dinner with open bar<br /> Dessert &amp\; Coffee<br /> </span></span></p> <p style="text-align: center"><span style="font-size: medium"><span style="font-family: Arial">If you aren&rsquo\;t up for a round of golf\, meet us at 4:30 for dinner &amp\; drinks</span></span></p> <p style="text-align: center"><span style="font-size: medium"><span style="font-family: Arial" /></span></p>
LOCATION:104 Bortons Road Marlton\, NJ 08053
UID:e.9292.230
SEQUENCE:3
DTSTAMP:20260422T023446Z
URL:https://members.blsj.com/events/details/fall-golf-outing-little-mill-country-club-reduced-golf-dinner-pricing-09-21-2009-230
END:VEVENT

END:VCALENDAR
