BEGIN:VCALENDAR
VERSION:2.0
PRODID:-//ChamberMaster//Event Calendar 2.0//EN
METHOD:PUBLISH
X-PUBLISHED-TTL:P3D
REFRESH-INTERVAL:P3D
CALSCALE:GREGORIAN
BEGIN:VEVENT
DTSTART:20050927T220000Z
DTEND:20050927T160000Z
X-MICROSOFT-CDO-ALLDAYEVENT:FALSE
SUMMARY:FALL GOLF OUTING-GALLOWAY NATIONAL GOLF COURSE - MORNING SHOTGU
DESCRIPTION:BLSJ 10th Annual Fall Golf Outing  Tuesday\, September 27\, 2005 RAIN OR SHINE   Tuesday\, September 27\, 2005  AGENDA  7:00 - 7:30 a.m.         Registration  7:30 a.m.                   Morning Shot Gun Start  11:30 - 1:00 p.m.    Lunch Buffet
X-ALT-DESC;FMTTYPE=text/html:BLSJ 10th Annual Fall Golf Outing  Tuesday\, September 27\, 2005 RAIN OR SHINE   Tuesday\, September 27\, 2005  AGENDA  7:00 - 7:30 a.m.         Registration  7:30 a.m.                   Morning Shot Gun Start  11:30 - 1:00 p.m.    Lunch Buffet    
LOCATION:Galloway Golf Club Galloway\, NJ 08205
UID:e.9292.977
SEQUENCE:3
DTSTAMP:20260421T055406Z
URL:https://members.blsj.com/events/details/fall-golf-outing-galloway-national-golf-course-morning-shotgu-09-27-2005-977
END:VEVENT

END:VCALENDAR
