BEGIN:VCALENDAR
VERSION:2.0
PRODID:-//ChamberMaster//Event Calendar 2.0//EN
METHOD:PUBLISH
X-PUBLISHED-TTL:P3D
REFRESH-INTERVAL:P3D
CALSCALE:GREGORIAN
BEGIN:VEVENT
DTSTART:20050927T160000Z
DTEND:20050927T160000Z
X-MICROSOFT-CDO-ALLDAYEVENT:FALSE
SUMMARY:FALL GOLF OUTING-GALLOWAY NATIONAL GOLF COURSE - AFTERNOON SHOTGU
DESCRIPTION:BLSJ 10th Annual Fall Golf Outing  Tuesday\, September 27\, 2005 RAIN OR SHINE   Tuesday\, September 27\, 2005  AGENDA  11:30 - 1:00 p.m.   Registration & Lunch Buffet  1:00 p.m.   Shotgun Start for        Golfers (Scramble Format)  6:00 p.m. - 8:00 p.m.   2 Hour Open Bar    Buffet Dinner and Awards  Presentation    Beef Tenderloin Carving Station    Turkey Carving Station    Pasta Station    Butlered Hot Hors D'oeuvres    Golf limited to 128 people - RESERVE EARLY
X-ALT-DESC;FMTTYPE=text/html:BLSJ 10th Annual Fall Golf Outing  Tuesday\, September 27\, 2005 RAIN OR SHINE   Tuesday\, September 27\, 2005  AGENDA  11:30 - 1:00 p.m.   Registration & Lunch Buffet  1:00 p.m.   Shotgun Start for        Golfers (Scramble Format)  6:00 p.m. - 8:00 p.m.   2 Hour Open Bar    Buffet Dinner and Awards  Presentation    Beef Tenderloin Carving Station    Turkey Carving Station    Pasta Station    Butlered Hot Hors D'oeuvres    Golf limited to 128 people - RESERVE EARLY
LOCATION:Galloway Golf Club Galloway\, NJ 08205
UID:e.9292.483
SEQUENCE:3
DTSTAMP:20260421T055406Z
URL:https://members.blsj.com/events/details/fall-golf-outing-galloway-national-golf-course-afternoon-shotgu-09-27-2005-483
END:VEVENT

END:VCALENDAR
