BEGIN:VCALENDAR
VERSION:2.0
PRODID:-//ChamberMaster//Event Calendar 2.0//EN
METHOD:PUBLISH
X-PUBLISHED-TTL:P3D
REFRESH-INTERVAL:P3D
CALSCALE:GREGORIAN
BEGIN:VEVENT
DTSTART:20060926T160000Z
DTEND:20060926T160000Z
X-MICROSOFT-CDO-ALLDAYEVENT:FALSE
SUMMARY:FALL GOLF OUTING - GALLOWAY NATIONAL GOLF COURSE - 09/26/2006
DESCRIPTION:
X-ALT-DESC;FMTTYPE=text/html:
LOCATION:Galloway National Golf Course 270 South New York Road Galloway\, NJ 08205
UID:e.9292.481
SEQUENCE:3
DTSTAMP:20260421T223232Z
URL:https://members.blsj.com/events/details/fall-golf-outing-galloway-national-golf-course-09-26-2006-09-26-2006-481
END:VEVENT

END:VCALENDAR
