BEGIN:VCALENDAR
VERSION:2.0
PRODID:-//ChamberMaster//Event Calendar 2.0//EN
METHOD:PUBLISH
X-PUBLISHED-TTL:P3D
REFRESH-INTERVAL:P3D
CALSCALE:GREGORIAN
BEGIN:VEVENT
DTSTART:20060222T230000Z
DTEND:20060222T170000Z
X-MICROSOFT-CDO-ALLDAYEVENT:FALSE
SUMMARY:"Facts about Certificates of Insurance & Additional Insureds"
DESCRIPTION:A seminar to guide builders\, developers and redevelopers on the effective management of subcontractor certificates of insurance and achieving additional insured status on a subcontractor insurance program.  Key topics will include:    what is a certificate of insurance anyway    why is it so important to be an additional insured     how do I assure my interest is properly protected    Presented by:     Anthony D. Bevilacqua\, CPCU          President          Anthony & Company
X-ALT-DESC;FMTTYPE=text/html:A seminar to guide builders\, developers and redevelopers on the effective management of subcontractor certificates of insurance and achieving additional insured status on a subcontractor insurance program.  Key topics will include:    what is a certificate of insurance anyway    why is it so important to be an additional insured     how do I assure my interest is properly protected    Presented by:     Anthony D. Bevilacqua\, CPCU          President          Anthony & Company 
LOCATION:Builders League 114 Haddontowne Ct Cherry Hill\, NJ 08034
UID:e.9292.1
SEQUENCE:3
DTSTAMP:20260421T123253Z
URL:https://members.blsj.com/events/details/facts-about-certificates-of-insurance-additional-insureds-02-22-2006-1
END:VEVENT

END:VCALENDAR
