BEGIN:VCALENDAR
VERSION:2.0
PRODID:-//ChamberMaster//Event Calendar 2.0//EN
METHOD:PUBLISH
X-PUBLISHED-TTL:P3D
REFRESH-INTERVAL:P3D
CALSCALE:GREGORIAN
BEGIN:VEVENT
DTSTART:20041103T170000Z
DTEND:20041103T230000Z
X-MICROSOFT-CDO-ALLDAYEVENT:FALSE
SUMMARY:Executive Committee Meeting - 11/03/2004
DESCRIPTION:Strategic Plan Update
X-ALT-DESC;FMTTYPE=text/html:Strategic Plan Update
LOCATION:BLSJ Cherry Hill\, NJ 08034
UID:e.9292.479
SEQUENCE:3
DTSTAMP:20260420T174302Z
URL:https://members.blsj.com/events/details/executive-committee-meeting-11-03-2004-11-03-2004-479
END:VEVENT

END:VCALENDAR
