BEGIN:VCALENDAR
VERSION:2.0
PRODID:-//ChamberMaster//Event Calendar 2.0//EN
METHOD:PUBLISH
X-PUBLISHED-TTL:P3D
REFRESH-INTERVAL:P3D
CALSCALE:GREGORIAN
BEGIN:VEVENT
DTSTART:20091014T160000Z
DTEND:20091014T160000Z
X-MICROSOFT-CDO-ALLDAYEVENT:FALSE
SUMMARY:Executive Committee Meeting - 10/14/2009
DESCRIPTION:
X-ALT-DESC;FMTTYPE=text/html:
LOCATION:Route 30 Berlin\, NJ 08009
UID:e.9292.492
SEQUENCE:3
DTSTAMP:20260422T023236Z
URL:https://members.blsj.com/events/details/executive-committee-meeting-10-14-2009-10-14-2009-492
END:VEVENT

END:VCALENDAR
