BEGIN:VCALENDAR
VERSION:2.0
PRODID:-//ChamberMaster//Event Calendar 2.0//EN
METHOD:PUBLISH
X-PUBLISHED-TTL:P3D
REFRESH-INTERVAL:P3D
CALSCALE:GREGORIAN
BEGIN:VEVENT
DTSTART:20090908T160000Z
DTEND:20090908T220000Z
X-MICROSOFT-CDO-ALLDAYEVENT:FALSE
SUMMARY:Executive Committee Meeting - 09/08/2009
DESCRIPTION:
X-ALT-DESC;FMTTYPE=text/html:
LOCATION:114 Haddontowne Court Cherry Hill\, NJ
UID:e.9292.1052
SEQUENCE:3
DTSTAMP:20260422T023235Z
URL:https://members.blsj.com/events/details/executive-committee-meeting-09-08-2009-09-08-2009-1052
END:VEVENT

END:VCALENDAR
