BEGIN:VCALENDAR
VERSION:2.0
PRODID:-//ChamberMaster//Event Calendar 2.0//EN
METHOD:PUBLISH
X-PUBLISHED-TTL:P3D
REFRESH-INTERVAL:P3D
CALSCALE:GREGORIAN
BEGIN:VEVENT
DTSTART:20100825T160000Z
DTEND:20100825T220000Z
X-MICROSOFT-CDO-ALLDAYEVENT:FALSE
SUMMARY:Executive Committee Meeting - 08/25/2010
DESCRIPTION:
X-ALT-DESC;FMTTYPE=text/html:
LOCATION:114 Haddontowne Court Cherry Hill\, NJ
UID:e.9292.478
SEQUENCE:3
DTSTAMP:20260421T104425Z
URL:https://members.blsj.com/events/details/executive-committee-meeting-08-25-2010-08-25-2010-478
END:VEVENT

END:VCALENDAR
