BEGIN:VCALENDAR
VERSION:2.0
PRODID:-//ChamberMaster//Event Calendar 2.0//EN
METHOD:PUBLISH
X-PUBLISHED-TTL:P3D
REFRESH-INTERVAL:P3D
CALSCALE:GREGORIAN
BEGIN:VEVENT
DTSTART:20090715T220000Z
DTEND:20090715T220000Z
X-MICROSOFT-CDO-ALLDAYEVENT:FALSE
SUMMARY:Executive Committee Meeting - 07/15/2009
DESCRIPTION:
X-ALT-DESC;FMTTYPE=text/html:
LOCATION:114 Haddontowne Court Cherry Hill\, NJ
UID:e.9292.1051
SEQUENCE:3
DTSTAMP:20260422T064526Z
URL:https://members.blsj.com/events/details/executive-committee-meeting-07-15-2009-07-15-2009-1051
END:VEVENT

END:VCALENDAR
