BEGIN:VCALENDAR
VERSION:2.0
PRODID:-//ChamberMaster//Event Calendar 2.0//EN
METHOD:PUBLISH
X-PUBLISHED-TTL:P3D
REFRESH-INTERVAL:P3D
CALSCALE:GREGORIAN
BEGIN:VEVENT
DTSTART:20050518T160000Z
DTEND:20050518T160000Z
X-MICROSOFT-CDO-ALLDAYEVENT:FALSE
SUMMARY:Executive Committee Meeting - 05/18/2005
DESCRIPTION:
X-ALT-DESC;FMTTYPE=text/html:
LOCATION:Regency Palace Mt. Laurel\, NJ 08054
UID:e.9292.474
SEQUENCE:3
DTSTAMP:20260421T004838Z
URL:https://members.blsj.com/events/details/executive-committee-meeting-05-18-2005-05-18-2005-474
END:VEVENT

END:VCALENDAR
