BEGIN:VCALENDAR
VERSION:2.0
PRODID:-//ChamberMaster//Event Calendar 2.0//EN
METHOD:PUBLISH
X-PUBLISHED-TTL:P3D
REFRESH-INTERVAL:P3D
CALSCALE:GREGORIAN
BEGIN:VEVENT
DTSTART:20100520T160000Z
DTEND:20100520T160000Z
X-MICROSOFT-CDO-ALLDAYEVENT:FALSE
SUMMARY:EPA LEAD CERTIFICATION COURSE - One Day Course - 05/20/2010
DESCRIPTION:ATTENTION REMODELERS! \n Painters\, Electricians\, HVAC technicians and others  working in homes and buildings \n built before 1978 need to be certified by April 22          Normal 0   false false false        MicrosoftInternetExplorer4         /* Style Definitions */ table.MsoNormalTable {mso-style-name:"Table Normal"\; mso-tstyle-rowband-size:0\; mso-tstyle-colband-size:0\; mso-style-noshow:yes\; mso-style-parent:""\; mso-padding-alt:0in 5.4pt 0in 5.4pt\; mso-para-margin:0in\; mso-para-margin-bottom:.0001pt\; mso-pagination:widow-orphan\; font-size:10.0pt\; font-family:"Times New Roman"\; mso-ansi-language:#0400\; mso-fareast-language:#0400\; mso-bidi-language:#0400\;}        EPA Lead Certification One Day Course  After April 22\, 2010 Only EPA Certified LEAD SAFE renovators will be allowed To work on houses built before 1978 that may contain lead paint.   Violations of this new rule can result in fines of up to $32\,000.00 per day.   The one day course will be held at:  The Builders League of South Jersey\n 114 Haddontowne Court\, Cherry Hill\, NJ   DATE: THURSDAY\, MAY 20th\, 2010 From 8:00 a.m. to 5:00 p.m.   This one day course is a great value at just $325.00 per person! Seating is EXTREMELY Limited!!!         Normal 0   false false false        MicrosoftInternetExplorer4         /* Style Definitions */ table.MsoNormalTable {mso-style-name:"Table Normal"\; mso-tstyle-rowband-size:0\; mso-tstyle-colband-size:0\; mso-style-noshow:yes\; mso-style-parent:""\; mso-padding-alt:0in 5.4pt 0in 5.4pt\; mso-para-margin:0in\; mso-para-margin-bottom:.0001pt\; mso-pagination:widow-orphan\; font-size:10.0pt\; font-family:"Times New Roman"\; mso-ansi-language:#0400\; mso-fareast-language:#0400\; mso-bidi-language:#0400\;}  Light refreshments will be provided.
X-ALT-DESC;FMTTYPE=text/html:<p style="text-align: center\;"><span style="color: rgb(255\, 0\, 0)\;"><span style="font-family: Arial\;"><span style="font-size: medium\;"><strong>ATTENTION REMODELERS! <br /> Painters\, Electricians\, HVAC technicians and others  working in homes and buildings <br /> built before 1978 need to be certified by April 22  </strong></span><span style="font-size: small\;" /></span></span></p> <p style="text-align: center\;"> <meta http-equiv="Content-Type" content="text/html\; charset=utf-8"> <meta name="ProgId" content="Word.Document"> <meta name="Generator" content="Microsoft Word 11"> <meta name="Originator" content="Microsoft Word 11"> <link href="file:///C:\\DOCUME~1\\Marlene\\LOCALS~1\\Temp\\msohtml1\\01\\clip_filelist.xml" rel="File-List" /><!--[if gte mso 9]><xml> <w:WordDocument> <w:View>Normal</w:View> <w:Zoom>0</w:Zoom> <w:PunctuationKerning /> <w:ValidateAgainstSchemas /> <w:SaveIfXMLInvalid>false</w:SaveIfXMLInvalid> <w:IgnoreMixedContent>false</w:IgnoreMixedContent> <w:AlwaysShowPlaceholderText>false</w:AlwaysShowPlaceholderText> <w:Compatibility> <w:BreakWrappedTables /> <w:SnapToGridInCell /> <w:WrapTextWithPunct /> <w:UseAsianBreakRules /> <w:DontGrowAutofit /> </w:Compatibility> <w:BrowserLevel>MicrosoftInternetExplorer4</w:BrowserLevel> </w:WordDocument> </xml><![endif]--><!--[if gte mso 9]><xml> <w:LatentStyles DefLockedState="false" LatentStyleCount="156"> </w:LatentStyles> </xml><![endif]--><style type="text/css"> <!--  /* Style Definitions */  p.MsoNormal\, li.MsoNormal\, div.MsoNormal    {mso-style-parent:""\;    margin:0in\;    margin-bottom:.0001pt\;    mso-pagination:widow-orphan\;    font-size:12.0pt\;    font-family:"Times New Roman"\;    mso-fareast-font-family:"Times New Roman"\;} @page Section1    {size:8.5in 11.0in\;    margin:1.0in 1.25in 1.0in 1.25in\;    mso-header-margin:.5in\;    mso-footer-margin:.5in\;    mso-paper-source:0\;} div.Section1    {page:Section1\;} --> </style><!--[if gte mso 10]> <style> /* Style Definitions */ table.MsoNormalTable {mso-style-name:"Table Normal"\; mso-tstyle-rowband-size:0\; mso-tstyle-colband-size:0\; mso-style-noshow:yes\; mso-style-parent:""\; mso-padding-alt:0in 5.4pt 0in 5.4pt\; mso-para-margin:0in\; mso-para-margin-bottom:.0001pt\; mso-pagination:widow-orphan\; font-size:10.0pt\; font-family:"Times New Roman"\; mso-ansi-language:#0400\; mso-fareast-language:#0400\; mso-bidi-language:#0400\;} </style> <![endif]--> </meta> </meta> </meta> </meta> </p> <p align="center" class="MsoNormal" style="text-align: center\;"><span style="font-size: x-large\;"><span style="font-family: Arial\;">EPA Lead Certification <b style=""><i style=""><u>One Day</u></i></b> Course</span></span><span style="font-family: Arial\;"><o:p></o:p></span></p> <p align="center" class="MsoNormal" style="text-align: center\;"><span style="font-size: x-large\;" /><span style="font-size: large\;"><span style="font-family: Arial\;"><o:p><span style="font-size: x-large\;"> </span></o:p></span></span><span style="font-size: 14pt\; font-family: Arial\;">After April 22\, 2010 Only <b style=""><u>EPA</u></b><u> Certified LEAD SAFE renovators</u> will be allowed<o:p></o:p></span></p> <p align="center" class="MsoNormal" style="text-align: center\;"><span style="font-size: 14pt\; font-family: Arial\;">To work on houses built before 1978 that may contain lead paint.<o:p></o:p></span></p> <p align="center" class="MsoNormal" style="text-align: center\;"><span style="font-size: 10pt\; font-family: Arial\;"><o:p>&nbsp\;</o:p></span></p> <p align="center" class="MsoNormal" style="text-align: center\;"><span style="font-size: 14pt\; font-family: Arial\;">Violations of this new rule can result in fines of up to <b style="">$32\,000.00 per day.<o:p></o:p></b></span></p> <p align="center" class="MsoNormal" style="text-align: center\;"><b style=""><span style="font-size: 10pt\; font-family: Arial\;"><o:p>&nbsp\;</o:p></span></b></p> <p align="center" class="MsoNormal" style="text-align: center\;"><b style=""><span style="font-size: 14pt\; font-family: Arial\;">The one day course will be held at:<o:p></o:p></span></b></p> <p align="center" class="MsoNormal" style="text-align: center\;"><b style=""><span style="font-size: 10pt\; font-family: Arial\;"><o:p>&nbsp\;</o:p></span></b><b style=""><span style="font-size: 14pt\; font-family: Arial\;">The Builders League of South Jersey<br /> 114 Haddontowne Court\, Cherry Hill\, NJ<o:p></o:p></span></b></p> <p align="center" class="MsoNormal" style="text-align: center\;"><b style=""><span style="font-size: 10pt\; font-family: Arial\;"><o:p>&nbsp\;</o:p></span></b></p> <p align="center" class="MsoNormal" style="text-align: center\;"><b style=""><span style="font-size: 14pt\; font-family: Arial\;">DATE: THURSDAY\, MAY 20th\, 2010<o:p></o:p></span></b></p> <p align="center" class="MsoNormal" style="text-align: center\;"><b style=""><span style="font-size: 14pt\; font-family: Arial\;">From 8:00 a.m. to 5:00 p.m.<o:p></o:p></span></b></p> <p align="center" class="MsoNormal" style="text-align: center\;"><b style=""><span style="font-size: 10pt\; font-family: Arial\; color: red\;"><o:p>&nbsp\;</o:p></span></b></p> <p align="center" class="MsoNormal" style="text-align: center\;"><b style=""><span style="font-size: 16pt\; font-family: Arial\; color: red\;">This one day course is a great value at just $325.00 per person!<o:p></o:p></span></b></p> <p align="center" class="MsoNormal" style="text-align: center\;"><b style=""><span style="font-size: 18pt\; font-family: Arial\; color: red\;">Seating is EXTREMELY Limited!!!</span></b></p> <p align="center" class="MsoNormal" style="text-align: center\;"><b style=""><span style="font-size: 18pt\; font-family: Arial\; color: red\;" /></b></p> <p align="center" class="MsoNormal" style="text-align: center\;"> <meta http-equiv="Content-Type" content="text/html\; charset=utf-8"> <meta name="ProgId" content="Word.Document"> <meta name="Generator" content="Microsoft Word 11"> <meta name="Originator" content="Microsoft Word 11"> <link href="file:///C:\\DOCUME~1\\Marlene\\LOCALS~1\\Temp\\msohtml1\\01\\clip_filelist.xml" rel="File-List" /><!--[if gte mso 9]><xml> <w:WordDocument> <w:View>Normal</w:View> <w:Zoom>0</w:Zoom> <w:PunctuationKerning /> <w:ValidateAgainstSchemas /> <w:SaveIfXMLInvalid>false</w:SaveIfXMLInvalid> <w:IgnoreMixedContent>false</w:IgnoreMixedContent> <w:AlwaysShowPlaceholderText>false</w:AlwaysShowPlaceholderText> <w:Compatibility> <w:BreakWrappedTables /> <w:SnapToGridInCell /> <w:WrapTextWithPunct /> <w:UseAsianBreakRules /> <w:DontGrowAutofit /> </w:Compatibility> <w:BrowserLevel>MicrosoftInternetExplorer4</w:BrowserLevel> </w:WordDocument> </xml><![endif]--><!--[if gte mso 9]><xml> <w:LatentStyles DefLockedState="false" LatentStyleCount="156"> </w:LatentStyles> </xml><![endif]--><style type="text/css"> <!--  /* Style Definitions */  p.MsoNormal\, li.MsoNormal\, div.MsoNormal    {mso-style-parent:""\;    margin:0in\;    margin-bottom:.0001pt\;    mso-pagination:widow-orphan\;    font-size:12.0pt\;    font-family:"Times New Roman"\;    mso-fareast-font-family:"Times New Roman"\;} @page Section1    {size:8.5in 11.0in\;    margin:1.0in 1.25in 1.0in 1.25in\;    mso-header-margin:.5in\;    mso-footer-margin:.5in\;    mso-paper-source:0\;} div.Section1    {page:Section1\;} --> </style><!--[if gte mso 10]> <style> /* Style Definitions */ table.MsoNormalTable {mso-style-name:"Table Normal"\; mso-tstyle-rowband-size:0\; mso-tstyle-colband-size:0\; mso-style-noshow:yes\; mso-style-parent:""\; mso-padding-alt:0in 5.4pt 0in 5.4pt\; mso-para-margin:0in\; mso-para-margin-bottom:.0001pt\; mso-pagination:widow-orphan\; font-size:10.0pt\; font-family:"Times New Roman"\; mso-ansi-language:#0400\; mso-fareast-language:#0400\; mso-bidi-language:#0400\;} </style> <![endif]--><b style=""><span style="font-size: 14pt\; font-family: Arial\; color: black\;">Light refreshments will be provided.</span></b></meta> </meta> </meta> </meta> </p> <p>&nbsp\;</p>
LOCATION:114 Haddontowne Court Cherry Hill\, NJ 08034
UID:e.9292.1123
SEQUENCE:3
DTSTAMP:20260421T151836Z
URL:https://members.blsj.com/events/details/epa-lead-certification-course-one-day-course-05-20-2010-05-20-2010-1123
END:VEVENT

END:VCALENDAR
