BEGIN:VCALENDAR
VERSION:2.0
PRODID:-//ChamberMaster//Event Calendar 2.0//EN
METHOD:PUBLISH
X-PUBLISHED-TTL:P3D
REFRESH-INTERVAL:P3D
CALSCALE:GREGORIAN
BEGIN:VEVENT
DTSTART:20100127T170000Z
DTEND:20100127T170000Z
X-MICROSOFT-CDO-ALLDAYEVENT:FALSE
SUMMARY:EPA LEAD CERTIFICATION COURSE - One Day Course - 01/27/2010
DESCRIPTION:ATTENTION:   EPA Lead Certification One Day Course After April 22\, 2010 Only EPA Certified LEAD SAFE renovators will be allowed\n To work on houses built before 1978 that may contain lead paint. Violations of this new rule can result in fines of up to $32\,000.00 per day. The one day course will be held at: The Builders League of South Jersey\n 114 Haddontowne Court\, Cherry Hill\, NJ DATE: WEDNESDAY\, JANUARY 27\, 2010\n From 8:00 a.m. to 5:00 p.m. This one day course is a great value at just $325.00 per person!\n Seating is EXTREMELY Limited!!!\n \n Call Marlene Spencer at  the League Office for more information - 856-616-8460.
X-ALT-DESC;FMTTYPE=text/html:<p><span style="font-size: small"><span style="color: #ff0000"><strong>ATTENTION:&nbsp\;&nbsp\; EPA Lead Certification One Day Course</strong></span></span><span style="color: #ff0000" /></p> <p><span style="font-size: x-small">After April 22\, 2010 Only EPA Certified LEAD SAFE renovators will be allowed<br /> To work on houses built before 1978 that may contain lead paint.</span></p> <p><span style="font-size: x-small">Violations of this new rule can result in fines of up to $32\,000.00 per day.</span></p> <p><span style="font-size: x-small">The one day course will be held at:</span></p> <p><span style="font-size: x-small">The Builders League of South Jersey<br /> 114 Haddontowne Court\, Cherry Hill\, NJ</span></p> <p><u><strong>DATE: WEDNESDAY\, JANUARY 27\, 2010<br /> From 8:00 a.m. to 5:00 p.m.</strong></u></p> <p><strong><span style="color: #ff0000">This one day course is a great value at just $325.00 per person!<br /> Seating is EXTREMELY Limited!!!</span></strong><br /> <br /> Call Marlene Spencer at &nbsp\;the League Office for more information - 856-616-8460.</p> <p><strong><span style="color: #ff0000" /></strong></p>
LOCATION:114 Haddontowne Court Cherry Hill\, NJ 08034
UID:e.9292.966
SEQUENCE:3
DTSTAMP:20260421T223105Z
URL:https://members.blsj.com/events/details/epa-lead-certification-course-one-day-course-01-27-2010-01-27-2010-966
END:VEVENT

END:VCALENDAR
