BEGIN:VCALENDAR
VERSION:2.0
PRODID:-//ChamberMaster//Event Calendar 2.0//EN
METHOD:PUBLISH
X-PUBLISHED-TTL:P3D
REFRESH-INTERVAL:P3D
CALSCALE:GREGORIAN
BEGIN:VEVENT
DTSTART:20050622T220000Z
DTEND:20050622T220000Z
X-MICROSOFT-CDO-ALLDAYEVENT:FALSE
SUMMARY:Environmental Site Assessments: What You Don't Know Can Hurt You
DESCRIPTION:"Environmental Site Assessments:  What You Don't Know Can Hurt You" Flaster/Greenberg Environmental Law Shareholder Janet S. Kole will examine unexpected environmental problems that can develop\, even on virgin farmland.  She will discuss what to look for before purchasing property for development and what actions builders can take to prevent unwanted environmental liabilities.
X-ALT-DESC;FMTTYPE=text/html:"Environmental Site Assessments:  What You Don't Know Can Hurt You" Flaster/Greenberg Environmental Law Shareholder Janet S. Kole will examine unexpected environmental problems that can develop\, even on virgin farmland.  She will discuss what to look for before purchasing property for development and what actions builders can take to prevent unwanted environmental liabilities. 
LOCATION:BLSJ Cherry Hill\, NJ 08034
UID:e.9292.1048
SEQUENCE:3
DTSTAMP:20260421T020451Z
URL:https://members.blsj.com/events/details/environmental-site-assessments-what-you-don-t-know-can-hurt-you-06-22-2005-1048
END:VEVENT

END:VCALENDAR
