BEGIN:VCALENDAR
VERSION:2.0
PRODID:-//ChamberMaster//Event Calendar 2.0//EN
METHOD:PUBLISH
X-PUBLISHED-TTL:P3D
REFRESH-INTERVAL:P3D
CALSCALE:GREGORIAN
BEGIN:VEVENT
DTSTART:20051103T230000Z
DTEND:20051103T170000Z
X-MICROSOFT-CDO-ALLDAYEVENT:FALSE
SUMMARY:EFFICIENCY TOOLS TO HELP YOU CUT YOUR FUEL COSTS -CANCELED
DESCRIPTION:Seminar:  EFFICIENCY TOOLS TO HELP YOU CUT YOUR FUEL COSTS AND INCREASE PRODUCTIVITY  Presented By:  STEVE JOHNSON\, VICE PRESIDENT BUSINESS DEVELOPMENT MOBILE MANAGEMENT RESOURCES  CHALLENGES FACED BY COMPANIES WITH MOBILE WORKFORCES 2.   WHO IS MMR? a.   WHAT WE DO b.   OUR PROCESS c.   OUR PARTNERSHIP WITH LEADING TECHNOLOGY PROVIDERS 3.   OVERVIEW OF FLEET MANAGEMENT TECHNOLOGY 4.   DEMO OF A LEADING FLEET MANAGEMENT TOOL 5.   MMR'S SOLUTIONS a.   SAVE YOU MONEY b.   SAVE YOU TIME c.   INCREASE PRODUCTIVITY d.   PROVIDE PEACE OF MIND  Note: All attendees will receive a FREE report\, "Managing Your Fleet Through Rising Gas Prices"
X-ALT-DESC;FMTTYPE=text/html:Seminar:  EFFICIENCY TOOLS TO HELP YOU CUT YOUR FUEL COSTS AND INCREASE PRODUCTIVITY  Presented By:  STEVE JOHNSON\, VICE PRESIDENT BUSINESS DEVELOPMENT MOBILE MANAGEMENT RESOURCES  CHALLENGES FACED BY COMPANIES WITH MOBILE WORKFORCES 2.   WHO IS MMR? a.   WHAT WE DO b.   OUR PROCESS c.   OUR PARTNERSHIP WITH LEADING TECHNOLOGY PROVIDERS 3.   OVERVIEW OF FLEET MANAGEMENT TECHNOLOGY 4.   DEMO OF A LEADING FLEET MANAGEMENT TOOL 5.   MMR'S SOLUTIONS a.   SAVE YOU MONEY b.   SAVE YOU TIME c.   INCREASE PRODUCTIVITY d.   PROVIDE PEACE OF MIND  Note: All attendees will receive a FREE report\, "Managing Your Fleet Through Rising Gas Prices"  
LOCATION:Builders League Office 114 Haddontowne Ct Cherry Hill\, NJ 08034
UID:e.9292.1047
SEQUENCE:3
DTSTAMP:20260421T083649Z
URL:https://members.blsj.com/events/details/efficiency-tools-to-help-you-cut-your-fuel-costs-canceled-11-03-2005-1047
END:VEVENT

END:VCALENDAR
