BEGIN:VCALENDAR
VERSION:2.0
PRODID:-//ChamberMaster//Event Calendar 2.0//EN
METHOD:PUBLISH
X-PUBLISHED-TTL:P3D
REFRESH-INTERVAL:P3D
CALSCALE:GREGORIAN
BEGIN:VEVENT
DTSTART:20050202T230000Z
DTEND:20050202T170000Z
X-MICROSOFT-CDO-ALLDAYEVENT:FALSE
SUMMARY:Effective Marketing on a Shoestring Budget
DESCRIPTION:What can a marketing plan do for you? How do you determine supply & demand - before moving forward? How can you avoid marketing mistakes? These and other questions will be answered as you learn to promote your business\, improve your sales technique\, and use brokers more effectively. A must for small Volume builders & anyone with a small Marketing budget.
X-ALT-DESC;FMTTYPE=text/html:What can a marketing plan do for you? How do you determine supply & demand - before moving forward? How can you avoid marketing mistakes? These and other questions will be answered as you learn to promote your business\, improve your sales technique\, and use brokers more effectively. A must for small Volume builders & anyone with a small Marketing budget. 
LOCATION:Builders League Office Cherry Hill\, NJ 08034
UID:e.9292.965
SEQUENCE:3
DTSTAMP:20260420T210232Z
URL:https://members.blsj.com/events/details/effective-marketing-on-a-shoestring-budget-02-02-2005-965
END:VEVENT

END:VCALENDAR
