BEGIN:VCALENDAR
VERSION:2.0
PRODID:-//ChamberMaster//Event Calendar 2.0//EN
METHOD:PUBLISH
X-PUBLISHED-TTL:P3D
REFRESH-INTERVAL:P3D
CALSCALE:GREGORIAN
BEGIN:VEVENT
DTSTART:20050224T230000Z
DTEND:20050224T230000Z
X-MICROSOFT-CDO-ALLDAYEVENT:FALSE
SUMMARY:ECONOMIC OUTLOOK 2005
DESCRIPTION:ECONOMIC OUTLOOK 2005 Speaker: Patrick O'Keefe\, Executive Vice President & C.E.O. New Jersey Builders Association  What's in store for New Jersey's Economy in 2005? Will we see a slowdown in building permits or will the good times continue?  If you want to know the answers to these questions\, and you are in the building business\, whether as a builder\, remodeler\, supplier\, sub-contractor or consulting professional  You can't afford to miss this very important meeting on topics that will affect our industry in the coming year!   Join us on Thursday\, February 24th for... Patrick O'Keefe's Economic Outlook 2005
X-ALT-DESC;FMTTYPE=text/html:ECONOMIC OUTLOOK 2005 Speaker: Patrick O'Keefe\, Executive Vice President & C.E.O. New Jersey Builders Association  What's in store for New Jersey's Economy in 2005? Will we see a slowdown in building permits or will the good times continue?  If you want to know the answers to these questions\, and you are in the building business\, whether as a builder\, remodeler\, supplier\, sub-contractor or consulting professional  You can't afford to miss this very important meeting on topics that will affect our industry in the coming year!   Join us on Thursday\, February 24th for... Patrick O'Keefe's Economic Outlook 2005  
LOCATION:BLSJ 114 Haddontowne Court Cherry Hill\, NJ 08034
UID:e.9292.1121
SEQUENCE:3
DTSTAMP:20260420T210027Z
URL:https://members.blsj.com/events/details/economic-outlook-2005-02-24-2005-1121
END:VEVENT

END:VCALENDAR
