BEGIN:VCALENDAR
VERSION:2.0
PRODID:-//ChamberMaster//Event Calendar 2.0//EN
METHOD:PUBLISH
X-PUBLISHED-TTL:P3D
REFRESH-INTERVAL:P3D
CALSCALE:GREGORIAN
BEGIN:VEVENT
DTSTART:20050427T220000Z
DTEND:20050427T160000Z
X-MICROSOFT-CDO-ALLDAYEVENT:FALSE
SUMMARY:Door & Window Flashings & Weathertight Exteriors Seminar
DESCRIPTION:Across the state we have seen many variations on the way builders are flashing windows. A practice mandated by the IRC.  You may recall the Sept.13 2004 NAHB Nation's Building News OnLine article concerning the findings of a joint study conducted by NAHB and National Home Inspectors Assoc. The findings reported flashing errors as a critical quality problem in the industry.   There are many more  recently published articles concerning this subject which underscores the timelines\, importance of\,  and need for\,  education in this area.    Eastern Distributors & DuPont Weatherization Systems offers a seminar on Door & Window Flashings & Weather Tight Exteriors.  This educational seminar utilizes digital presentation as well as actual wall sections which are wrapped and flashed to show the proper integration of building materials. The seminar lasts about 1 hour and usually solicits alot of interest by builders. Who should attend? Builders\, Subcontractors\, Architects\, & Design Professionals.  Speaker: Tom Gangl\, Eastern Distributors
X-ALT-DESC;FMTTYPE=text/html:Across the state we have seen many variations on the way builders are flashing windows. A practice mandated by the IRC.  You may recall the Sept.13 2004 NAHB Nation's Building News OnLine article concerning the findings of a joint study conducted by NAHB and National Home Inspectors Assoc. The findings reported flashing errors as a critical quality problem in the industry.   There are many more  recently published articles concerning this subject which underscores the timelines\, importance of\,  and need for\,  education in this area.    Eastern Distributors & DuPont Weatherization Systems offers a seminar on Door & Window Flashings & Weather Tight Exteriors.  This educational seminar utilizes digital presentation as well as actual wall sections which are wrapped and flashed to show the proper integration of building materials. The seminar lasts about 1 hour and usually solicits alot of interest by builders. Who should attend? Builders\, Subcontractors\, Architects\, & Design Professionals.  Speaker: Tom Gangl\, Eastern Distributors
LOCATION:Builders League of South Jersey 114 Haddontown Ct Cherry Hill\, NJ 08034
UID:e.9292.964
SEQUENCE:3
DTSTAMP:20260420T233848Z
URL:https://members.blsj.com/events/details/door-window-flashings-weathertight-exteriors-seminar-04-27-2005-964
END:VEVENT

END:VCALENDAR
