BEGIN:VCALENDAR
VERSION:2.0
PRODID:-//ChamberMaster//Event Calendar 2.0//EN
METHOD:PUBLISH
X-PUBLISHED-TTL:P3D
REFRESH-INTERVAL:P3D
CALSCALE:GREGORIAN
BEGIN:VEVENT
DTSTART:20070228T230000Z
DTEND:20070228T170000Z
X-MICROSOFT-CDO-ALLDAYEVENT:FALSE
SUMMARY:DESIGNING FOR THE ACTIVE ADULT - Don't Miss this Exciting Class
DESCRIPTION:Don't Miss this Exciting Class - Only Time Offered iat the BLSJ in 2007 By the year 2010 there will be 77 million active adults age 50 and older living in the U.S. They're comprised of a variety of market segments that are defined by lifestyle\, community and amenities/ product design preferences. This one-day course gives you an overview of design considerations to take into account when planning single-family and multifamily housing for active adults. Learn how to meet the needs of this growing market and how to provide them with a variety of housing options. Instructor: Louis Tenenbaum\, CAPS  \n Coach   Consultant   Trainer   Speaker\n Independent Living Strategist
X-ALT-DESC;FMTTYPE=text/html:<p align="center"><font color="#ff0000">Don&rsquo\;t Miss this Exciting Class - Only Time Offered iat the BLSJ in 2007</font></p> <p>By the year 2010 there will be 77 million active adults age 50 and older living in the U.S. They&rsquo\;re comprised of a variety of market segments that are defined by lifestyle\, community and amenities/ product design preferences. This one-day course gives you an overview of design considerations to take into account when planning single-family and multifamily housing for active adults. Learn how to meet the needs of this growing market and how to provide them with a variety of housing options.</p> <p>Instructor: Louis Tenenbaum\, CAPS&nbsp\;&nbsp\;<font color="#000000" family="SANSSERIF"><br /> </font><font size="2"><font face="Times" color="#000000" family="SERIF"><strong>Coach &bull\;</strong></font><font face="Times" color="#000000" family="SERIF"> Consultant &bull\; Trainer &bull\; Speaker</font></font><font lang="0" face="Comic Sans MS" color="#000000"><strong><br /> <font size="2">Independent Living Strategist</font></strong></font><font lang="0" face="Comic Sans MS" color="#000000"><br /> </font></p>
LOCATION:Builders League of South Jersey 114 Haddontowne Ct Cherry Hill\, NJ 08034
UID:e.9292.1120
SEQUENCE:3
DTSTAMP:20260422T065316Z
URL:https://members.blsj.com/events/details/designing-for-the-active-adult-don-t-miss-this-exciting-class-02-28-2007-1120
END:VEVENT

END:VCALENDAR
