BEGIN:VCALENDAR
VERSION:2.0
PRODID:-//ChamberMaster//Event Calendar 2.0//EN
METHOD:PUBLISH
X-PUBLISHED-TTL:P3D
REFRESH-INTERVAL:P3D
CALSCALE:GREGORIAN
BEGIN:VEVENT
DTSTART:20041208T230000Z
DTEND:20041208T230000Z
X-MICROSOFT-CDO-ALLDAYEVENT:FALSE
SUMMARY:Crafting a Risk Transfer Program that Helps Reduce Liability Insurance Cost
DESCRIPTION:Speakers: Anthony Bevilacqua\, Anthony & Company\, Inc.
X-ALT-DESC;FMTTYPE=text/html:Speakers: Anthony Bevilacqua\, Anthony & Company\, Inc.
LOCATION:BLSJ Cherry Hill\, NJ 08034
UID:e.9292.1035
SEQUENCE:3
DTSTAMP:20260420T185241Z
URL:https://members.blsj.com/events/details/crafting-a-risk-transfer-program-that-helps-reduce-liability-insurance-cost-12-08-2004-1035
END:VEVENT

END:VCALENDAR
