BEGIN:VCALENDAR
VERSION:2.0
PRODID:-//ChamberMaster//Event Calendar 2.0//EN
METHOD:PUBLISH
X-PUBLISHED-TTL:P3D
REFRESH-INTERVAL:P3D
CALSCALE:GREGORIAN
BEGIN:VEVENT
DTSTART:20060125T230000Z
DTEND:20060125T230000Z
X-MICROSOFT-CDO-ALLDAYEVENT:FALSE
SUMMARY:CONTRACTOR'S REGISTRATION ACT
DESCRIPTION:Seminar Summary:  People are unaware of the problems they may encounter if they do not complete the registration process. The Act was signed into law more than a year ago and it is not being administered properly so contractor's may want to know what the Act requires and what can be done to make the process a little smoother.   Presented by James Kozachek\, Esquire/ Flaster Greenberg PC
X-ALT-DESC;FMTTYPE=text/html:Seminar Summary:  People are unaware of the problems they may encounter if they do not complete the registration process. The Act was signed into law more than a year ago and it is not being administered properly so contractor's may want to know what the Act requires and what can be done to make the process a little smoother.   Presented by James Kozachek\, Esquire/ Flaster Greenberg PC
LOCATION:Builders League Cherry Hill\, NJ 08034
UID:e.9292.469
SEQUENCE:3
DTSTAMP:20260421T110659Z
URL:https://members.blsj.com/events/details/contractor-s-registration-act-01-25-2006-469
END:VEVENT

END:VCALENDAR
