BEGIN:VCALENDAR
VERSION:2.0
PRODID:-//ChamberMaster//Event Calendar 2.0//EN
METHOD:PUBLISH
X-PUBLISHED-TTL:P3D
REFRESH-INTERVAL:P3D
CALSCALE:GREGORIAN
BEGIN:VEVENT
DTSTART:20050520T220000Z
DTEND:20050520T220000Z
X-MICROSOFT-CDO-ALLDAYEVENT:FALSE
SUMMARY:Construction Safety in the Workplace-The Insurance Side of Job site Inspections
DESCRIPTION:"Construction Safety in the workplace-The Insurance company point of view."  - OSHA- should you be worried?  -Worksite accidents: hey\,it's the subcontractor's employee- not mine!  - Jobsite Safety-How much does it really impact my cost of insurance?  - Comprehensive Insurance policy -so I must be covered right?  - Open Discussion- Q & A on construction insurance.  Speaker: Lloyd Humphries\, Insurance Office of America
X-ALT-DESC;FMTTYPE=text/html:"Construction Safety in the workplace-The Insurance company point of view."  - OSHA- should you be worried?  -Worksite accidents: hey\,it's the subcontractor's employee- not mine!  - Jobsite Safety-How much does it really impact my cost of insurance?  - Comprehensive Insurance policy -so I must be covered right?  - Open Discussion- Q & A on construction insurance.  Speaker: Lloyd Humphries\, Insurance Office of America
LOCATION:BLSJ Cherry Hill\, NJ 08034
UID:e.9292.1105
SEQUENCE:3
DTSTAMP:20260421T005250Z
URL:https://members.blsj.com/events/details/construction-safety-in-the-workplace-the-insurance-side-of-job-site-inspections-05-20-2005-1105
END:VEVENT

END:VCALENDAR
