BEGIN:VCALENDAR
VERSION:2.0
PRODID:-//ChamberMaster//Event Calendar 2.0//EN
METHOD:PUBLISH
X-PUBLISHED-TTL:P3D
REFRESH-INTERVAL:P3D
CALSCALE:GREGORIAN
BEGIN:VEVENT
DTSTART:20050610T160000Z
DTEND:20050610T160000Z
X-MICROSOFT-CDO-ALLDAYEVENT:FALSE
SUMMARY:COMPLYING WITH THE NEW BPU UTILITY EXTENSION RULES
DESCRIPTION:The New Jersey Board of Public Utilities proposed new regulations in 2004 to further the Smart Growth agenda initiated by former Governor James McGreevey.    The rules were adopted in December 2004 and became effective on March 20\, 2005.    The new rules are designed to promote Smart Growth and discourage development in areas designated as non-Smart Growth areas.    Under the new regulations\, builders who want to build in non-growth areas can do so\, but will shoulder 100% of the costs for utility extensions\, service lines and meters.    Representatives from South Jersey Gas and New Jersey American Water Company will speak on how the new rules impact their company's procedures and answer questions related to complying with the new regulations.
X-ALT-DESC;FMTTYPE=text/html:The New Jersey Board of Public Utilities proposed new regulations in 2004 to further the Smart Growth agenda initiated by former Governor James McGreevey.    The rules were adopted in December 2004 and became effective on March 20\, 2005.    The new rules are designed to promote Smart Growth and discourage development in areas designated as non-Smart Growth areas.    Under the new regulations\, builders who want to build in non-growth areas can do so\, but will shoulder 100% of the costs for utility extensions\, service lines and meters.    Representatives from South Jersey Gas and New Jersey American Water Company will speak on how the new rules impact their company's procedures and answer questions related to complying with the new regulations.   
LOCATION:BLSJ 114 Haddontowne Court Cherry Hill\, NJ 08034
UID:e.9292.468
SEQUENCE:3
DTSTAMP:20260421T020119Z
URL:https://members.blsj.com/events/details/complying-with-the-new-bpu-utility-extension-rules-06-10-2005-468
END:VEVENT

END:VCALENDAR
