BEGIN:VCALENDAR
VERSION:2.0
PRODID:-//ChamberMaster//Event Calendar 2.0//EN
METHOD:PUBLISH
X-PUBLISHED-TTL:P3D
REFRESH-INTERVAL:P3D
CALSCALE:GREGORIAN
BEGIN:VEVENT
DTSTART:20061003T220000Z
DTEND:20061003T220000Z
X-MICROSOFT-CDO-ALLDAYEVENT:FALSE
SUMMARY:Compass Committee Meeting - 10/03/2006
DESCRIPTION:
X-ALT-DESC;FMTTYPE=text/html:
LOCATION:Builders League 114 Haddontowne Ct Cherry Hill\, NJ 08034
UID:e.9292.182
SEQUENCE:3
DTSTAMP:20260422T011155Z
URL:https://members.blsj.com/events/details/compass-committee-meeting-10-03-2006-10-03-2006-182
END:VEVENT

END:VCALENDAR
