BEGIN:VCALENDAR
VERSION:2.0
PRODID:-//ChamberMaster//Event Calendar 2.0//EN
METHOD:PUBLISH
X-PUBLISHED-TTL:P3D
REFRESH-INTERVAL:P3D
CALSCALE:GREGORIAN
BEGIN:VEVENT
DTSTART:20060912T220000Z
DTEND:20060912T220000Z
X-MICROSOFT-CDO-ALLDAYEVENT:FALSE
SUMMARY:Compass Committee Meeting - 09/12/2006
DESCRIPTION:
X-ALT-DESC;FMTTYPE=text/html:
LOCATION:Builders League 114 Haddontowne Ct Cherry Hill\, NJ 08034
UID:e.9292.181
SEQUENCE:3
DTSTAMP:20260421T223326Z
URL:https://members.blsj.com/events/details/compass-committee-meeting-09-12-2006-09-12-2006-181
END:VEVENT

END:VCALENDAR
