BEGIN:VCALENDAR
VERSION:2.0
PRODID:-//ChamberMaster//Event Calendar 2.0//EN
METHOD:PUBLISH
X-PUBLISHED-TTL:P3D
REFRESH-INTERVAL:P3D
CALSCALE:GREGORIAN
BEGIN:VEVENT
DTSTART:20060815T160000Z
DTEND:20060815T220000Z
X-MICROSOFT-CDO-ALLDAYEVENT:FALSE
SUMMARY:Compass Committee Meeting - 08/15/2006
DESCRIPTION:(1)  Mentor Program Update (Annie Brown)       Mentor/New Member Matches       Mentor Event - August 15         (2)  Associate Spotlight Articles (Tracey Wiser)   (3)  Compass Committee's Role in Upcoming Events                Associate Committee Meeting - August 15                September General Membership Meeting - September 20                Fall Golf Outing - September 26                Associate Expo - October 18
X-ALT-DESC;FMTTYPE=text/html:(1)  Mentor Program Update (Annie Brown)       Mentor/New Member Matches       Mentor Event - August 15         (2)  Associate Spotlight Articles (Tracey Wiser)   (3)  Compass Committee's Role in Upcoming Events                Associate Committee Meeting - August 15                September General Membership Meeting - September 20                Fall Golf Outing - September 26                Associate Expo - October 18  
LOCATION:Builders League Cherry Hill\, NJ 08034
UID:e.9292.183
SEQUENCE:3
DTSTAMP:20260421T211250Z
URL:https://members.blsj.com/events/details/compass-committee-meeting-08-15-2006-08-15-2006-183
END:VEVENT

END:VCALENDAR
