BEGIN:VCALENDAR
VERSION:2.0
PRODID:-//ChamberMaster//Event Calendar 2.0//EN
METHOD:PUBLISH
X-PUBLISHED-TTL:P3D
REFRESH-INTERVAL:P3D
CALSCALE:GREGORIAN
BEGIN:VEVENT
DTSTART:20060606T220000Z
DTEND:20060606T220000Z
X-MICROSOFT-CDO-ALLDAYEVENT:FALSE
SUMMARY:Compass Committee Meeting - 06/06/2006
DESCRIPTION:
X-ALT-DESC;FMTTYPE=text/html:
LOCATION:Builders League Cherry Hill\, NJ 08034
UID:e.9292.1033
SEQUENCE:3
DTSTAMP:20260421T193921Z
URL:https://members.blsj.com/events/details/compass-committee-meeting-06-06-2006-06-06-2006-1033
END:VEVENT

END:VCALENDAR
