BEGIN:VCALENDAR
VERSION:2.0
PRODID:-//ChamberMaster//Event Calendar 2.0//EN
METHOD:PUBLISH
X-PUBLISHED-TTL:P3D
REFRESH-INTERVAL:P3D
CALSCALE:GREGORIAN
BEGIN:VEVENT
DTSTART:20061219T170000Z
DTEND:20061219T230000Z
X-MICROSOFT-CDO-ALLDAYEVENT:FALSE
SUMMARY:COMMITTEE CHAIRMENS MEETING
DESCRIPTION:The goal of this meeting is to let you know about your delegation of duties as a committee Chair/ Vice-Chair and as a guide for you as Chairperson. Facilitator: Barbara Chiusano\, C & C Development Co. / 2007 BLSJ President      Introduction of attendees      hand out & very brief explanation of chair person's handout      very very brief overview from each chair person of their goals\, events\, and/or fundraising planned for year      strategic plan      what are the committees expectations of blsj/ the executive board/ or suggestions they might have      ambassador program and need for involvement of committee chair to insure involvement of members      budget      reporting at board of directors\, and the need for cross communication\, so each committee has an understanding of what the others are doing so there is no duplication of effort\, and/or over burdening the membership w/ requests for contributions etc.
X-ALT-DESC;FMTTYPE=text/html:<p>The goal of this meeting is to let you know about your delegation of duties&nbsp\;as a committee Chair/ Vice-Chair and as a guide for you as Chairperson.</p> <p>Facilitator: Barbara Chiusano\, C &amp\; C Development Co. / 2007 BLSJ President</p> <ol type="1">     <li class="MsoNormal"><font face="Arial" size="2"><span style="FONT-SIZE: 10pt\; FONT-FAMILY: Arial">Introduction of attendees</span></font> </li>     <li class="MsoNormal"><font face="Arial" size="2"><span style="FONT-SIZE: 10pt\; FONT-FAMILY: Arial">hand out &amp\; very brief explanation of chair person&rsquo\;s handout</span></font> </li>     <li class="MsoNormal"><font face="Arial" size="2"><span style="FONT-SIZE: 10pt\; FONT-FAMILY: Arial">very very brief overview from each chair person of their goals\, events\, and/or fundraising planned for year</span></font> </li>     <li class="MsoNormal"><font face="Arial" size="2"><span style="FONT-SIZE: 10pt\; FONT-FAMILY: Arial">strategic plan</span></font> </li>     <li class="MsoNormal"><font face="Arial" size="2"><span style="FONT-SIZE: 10pt\; FONT-FAMILY: Arial">what are the committees expectations of blsj/ the executive board/ or suggestions they might have</span></font> </li>     <li class="MsoNormal"><font face="Arial" size="2"><span style="FONT-SIZE: 10pt\; FONT-FAMILY: Arial">ambassador program and need for involvement of committee chair to insure involvement of members</span></font> </li>     <li class="MsoNormal"><font face="Arial" size="2"><span style="FONT-SIZE: 10pt\; FONT-FAMILY: Arial">budget </span></font></li>     <li class="MsoNormal"><font face="Arial" size="2"><span style="FONT-SIZE: 10pt\; FONT-FAMILY: Arial">reporting at board of directors\, and the need for cross communication\, so each committee has an understanding of what the others are doing so there is no duplication of effort\, and/or over burdening the membership w/ requests for contributions etc.</span></font> </li> </ol> <p>&nbsp\;</p>
LOCATION:Builders League of South Jersey 114 Haddontowne Ct Cherry Hill\, NJ 08034
UID:e.9292.454
SEQUENCE:3
DTSTAMP:20260422T023506Z
URL:https://members.blsj.com/events/details/committee-chairmens-meeting-12-19-2006-454
END:VEVENT

END:VCALENDAR
