BEGIN:VCALENDAR
VERSION:2.0
PRODID:-//ChamberMaster//Event Calendar 2.0//EN
METHOD:PUBLISH
X-PUBLISHED-TTL:P3D
REFRESH-INTERVAL:P3D
CALSCALE:GREGORIAN
BEGIN:VEVENT
DTSTART:20091104T170000Z
DTEND:20091104T170000Z
X-MICROSOFT-CDO-ALLDAYEVENT:FALSE
SUMMARY:Coaching Topic: Click Power - Become the Master of Your Domain - with Meredith OliverÃ¢Â€Â¨Ã¢Â€Â¨
DESCRIPTION:Coaching Topic: Click Power - Become the Master of Your Domain - with Meredith Oliver?????? Tired of waiting on twenty-something's in flip flops who speak geek to fix your ???Website? In this high-energy\, content rich webinar\, learn how to take back control ???of your website and web marketing! You can learn to master the art and science ???of web marketing\; you just need a strategy. This webinar will cover the essential ???elements of an effective web marketing strategy and will give you a clear roadmap ???and next steps. No geek speak allowed! Whether you are marketing yourself\, a ???community\, a small business or a big builder\, both sales agents and marketing ???professionals can learn new tactics to sell more homes to the Dot Com customer.   About the Presenter: Meredith Oliver is an Internet sales and marketing expert. She is a professional speaker\, consultant and founder of Meredith Communications and the Internet Marketing Hotline. Meredith Communications is a full service Web marketing company delivering services such as Web site development and Search Engine Optimization. The Internet Marketing Hotline is a one-of-a-kind LIVE support service for small business DIY (Do-It-Yourself) Marketers.???Date: 11/4/09??? Time: 2PM Eastern ?????? Location: Builders League of South Jersey\n \n Cost: FREE
X-ALT-DESC;FMTTYPE=text/html:<p style="text-align: center"><span style="font-size: small">Coaching Topic: Click Power - Become the Master of Your Domain - with Meredith Oliver??????</span></p> <p>Tired of waiting on twenty-something's in flip flops who speak geek to fix your ???Website? In this high-energy\, content rich webinar\, learn how to take back control ???of your website and web marketing! You can learn to master the art and science ???of web marketing\; you just need a strategy. This webinar will cover the essential ???elements of an effective web marketing strategy and will give you a clear roadmap ???and next steps. No geek speak allowed! Whether you are marketing yourself\, a ???community\, a small business or a big builder\, both sales agents and marketing ???professionals can learn new tactics to sell more homes to the Dot Com customer.</p> <p>&nbsp\;</p> <p>About the Presenter:</p> <p>Meredith Oliver is an Internet sales and marketing expert. She is a professional speaker\, consultant and founder of Meredith Communications and the Internet Marketing Hotline. Meredith Communications is a full service Web marketing company delivering services such as Web site development and Search Engine Optimization. The Internet Marketing Hotline is a one-of-a-kind LIVE support service for small business DIY (Do-It-Yourself) Marketers.???Date: 11/4/09???</p> <p>Time:&nbsp\;2PM Eastern ??????</p> <p>Location: Builders League of South Jersey<br /> <br /> Cost: FREE</p> <p>&nbsp\;</p>
LOCATION:114 Haddontowne Court Cherry Hill\, NJ 08034
UID:e.9292.170
SEQUENCE:3
DTSTAMP:20260422T011456Z
URL:https://members.blsj.com/events/details/coaching-topic-click-power-become-the-master-of-your-domain-with-meredith-oliver&#227;-&#226;-&#226;-&#227;-&#226;-&#226;-11-04-2009-170
END:VEVENT

END:VCALENDAR
