BEGIN:VCALENDAR
VERSION:2.0
PRODID:-//ChamberMaster//Event Calendar 2.0//EN
METHOD:PUBLISH
X-PUBLISHED-TTL:P3D
REFRESH-INTERVAL:P3D
CALSCALE:GREGORIAN
BEGIN:VEVENT
DTSTART:20051121T230000Z
DTEND:20051121T230000Z
X-MICROSOFT-CDO-ALLDAYEVENT:FALSE
SUMMARY:Cigar & Spirits Night - 11/21/2005
DESCRIPTION:Join us at the Pyramid Club\, a private venue nestled 500 feet above Center City Philadelphia\, for a special event.  Start your holiday on the Monday evening before Thanksgiving with specially selected scotch\, cigars and assorted spirits from Philadelphia's top vendors.  Graciously Sponsored by Strober Building Supply and Congress Title  Jacket Required\, Dress Code Enforced  Admission: $125.00 ( $150 at the door) Payable to: The Builders League of South Jersey 114 Haddontowne Court\, Cherry Hill\, NJ 08034  or pay online at www.blsj.com Credit Cards Accepted: Visa/MasterCard/AMEX
X-ALT-DESC;FMTTYPE=text/html:Join us at the Pyramid Club\, a private venue nestled 500 feet above Center City Philadelphia\, for a special event.  Start your holiday on the Monday evening before Thanksgiving with specially selected scotch\, cigars and assorted spirits from Philadelphia's top vendors.  Graciously Sponsored by Strober Building Supply and Congress Title  Jacket Required\, Dress Code Enforced  Admission: $125.00 ( $150 at the door) Payable to: The Builders League of South Jersey 114 Haddontowne Court\, Cherry Hill\, NJ 08034  or pay online at www.blsj.com Credit Cards Accepted: Visa/MasterCard/AMEX
LOCATION:The Pyramid Club 1735 Mellon Bank Center - 52nd Floor Philadelphia\, PA 19024
UID:e.9292.957
SEQUENCE:3
DTSTAMP:20260421T084400Z
URL:https://members.blsj.com/events/details/cigar-spirits-night-11-21-2005-11-21-2005-957
END:VEVENT

END:VCALENDAR
