BEGIN:VCALENDAR
VERSION:2.0
PRODID:-//ChamberMaster//Event Calendar 2.0//EN
METHOD:PUBLISH
X-PUBLISHED-TTL:P3D
REFRESH-INTERVAL:P3D
CALSCALE:GREGORIAN
BEGIN:VEVENT
DTSTART:20061120T230000Z
DTEND:20061120T230000Z
X-MICROSOFT-CDO-ALLDAYEVENT:FALSE
SUMMARY:Cigar & Spirits Night - 11/20/2006
DESCRIPTION:Join us at the Pyramid Club\, a private venue nestled 500 feet above Center City Philadelphia\, for a special event. Start your holiday on the Monday evening before Thanksgiving with specially selected scotch\, cigars and assorted spirits from Philadelphia's top vendors.  Graciously Sponsored by Strober Building Supply  Jacket Required\, Dress Code Enforced Admission: $125.00 ( $150 at the door) Payable to: The Builders League of South Jersey 114 Haddontowne Court\, Cherry Hill\, NJ 08034 or pay online at www.blsj.com Credit Cards Accepted: Visa/MasterCard/AMEX
X-ALT-DESC;FMTTYPE=text/html:<p>Join us at the Pyramid Club\, a private venue nestled 500 feet above Center City Philadelphia\, for a special event. Start your holiday on the Monday evening before Thanksgiving with specially selected scotch\, cigars and assorted spirits from Philadelphia&rsquo\;s top vendors. </p> <p>Graciously Sponsored by Strober Building Supply&nbsp\;</p> <p>Jacket Required\, Dress Code Enforced Admission: $125.00 ( $150 at the door) Payable to: The Builders League of South Jersey 114 Haddontowne Court\, Cherry Hill\, NJ 08034 or pay online at www.blsj.com Credit Cards Accepted: Visa/MasterCard/AMEX </p>
LOCATION:Pyramid Club Philadelphia\, PA 00000
UID:e.9292.956
SEQUENCE:3
DTSTAMP:20260422T011058Z
URL:https://members.blsj.com/events/details/cigar-spirits-night-11-20-2006-11-20-2006-956
END:VEVENT

END:VCALENDAR
