BEGIN:VCALENDAR
VERSION:2.0
PRODID:-//ChamberMaster//Event Calendar 2.0//EN
METHOD:PUBLISH
X-PUBLISHED-TTL:P3D
REFRESH-INTERVAL:P3D
CALSCALE:GREGORIAN
BEGIN:VEVENT
DTSTART:20090910T160000Z
DTEND:20090910T160000Z
X-MICROSOFT-CDO-ALLDAYEVENT:FALSE
SUMMARY:Charitable Foundation Run for Our Troops 5K Run/Walk Sub-Committee Meeting - 09/10/2009
DESCRIPTION:MEMO TO: BLSJ Charitable Foundation Trustees FROM: Perri Wachter\, President   \n SUBJECT: Foundation Meeting  \n DATE: Thursday\, September 10\, 2009\n  FINAL PREPARATIONS FOR RACE DAY - ALL VOLUNTEERS MUST ATTEND AGENDA:  1. Mission Statement:\n THE MISSION OF THE CHARITABLE FOUNDATION OF THE BUILDERS LEAGUE OF SOUTH JERSEY IS TO PROVIDE SHELTER RELATED ASSISTANCE AND TO SUPPORT CHARITIES WITH SIMILAR NEEDS WITHIN THE COMMUNITIES WE SERVE 2. Conflict of Interest Statement 3. Homes for Our Troops 5K Race/Walk   Update   M. Spencer/S. Thames\n Saturday\, September 12th\, 2009   Cooper River Park\n \n 4. Sponsorships 5. Donations:\n      Water\n      Pre & Post Race Refreshments for the runners/walkers\n      Gift Certificates\n      Goodie Bags\n      Billy Bear Coloring Books\n      Medals: Kids Dash & Age Group Winners\n      Tables - 5 (registration/water stop/food/misc.)\n      Chairs - 12\n       Race Numbers & Pins\n      Misc.- Trash Bags/Broom/Paper Cups/Latex Gloves/\n      WAWA\n      Ravitz - Shop Rite\n      Pretzells\n      New Balance \n      Brooks\n      REI\n      McDonald's\n      Mansion\n      Little Mill CC - Golf Foursome\n      Heineken Beer - Bob Cain\n      Dunkin Donuts - Qamara Edwards\n \n 6. Volunteers
X-ALT-DESC;FMTTYPE=text/html:<p><br /> MEMO TO: BLSJ Charitable Foundation Trustees</p> <p>FROM: Perri Wachter\, President&nbsp\;&nbsp\;&nbsp\;<br /> SUBJECT: Foundation Meeting&nbsp\;&nbsp\;<br /> <strong><span style="font-size: small"><span style="color: #ff0000">DATE:&nbsp\;Thursday\, September 10\, 2009</span></span></strong><br /> <strong><span style="color: #ff0000">&nbsp\;FINAL PREPARATIONS FOR RACE DAY - ALL VOLUNTEERS MUST ATTEND</span></strong></p> <p><strong>AGENDA: </strong></p> <p>1. Mission Statement:<br /> THE MISSION OF THE CHARITABLE FOUNDATION OF THE BUILDERS LEAGUE OF SOUTH JERSEY IS TO PROVIDE SHELTER RELATED ASSISTANCE AND TO SUPPORT CHARITIES WITH SIMILAR NEEDS WITHIN THE COMMUNITIES WE SERVE</p> <p>2. Conflict of Interest Statement</p> <p>3. Homes for Our Troops 5K Race/Walk &ndash\; Update &ndash\; M. Spencer/S. Thames<br /> Saturday\, September 12th\, 2009 &ndash\; Cooper River Park<br /> <br /> 4. Sponsorships</p> <p>5. Donations:<br /> &nbsp\;&nbsp\;&nbsp\;&nbsp\; Water<br /> &nbsp\;&nbsp\;&nbsp\;&nbsp\; Pre &amp\; Post Race Refreshments for the runners/walkers<br /> &nbsp\;&nbsp\;&nbsp\;&nbsp\; Gift Certificates<br /> &nbsp\;&nbsp\;&nbsp\;&nbsp\; Goodie Bags<br /> &nbsp\;&nbsp\;&nbsp\;&nbsp\; Billy Bear Coloring Books<br /> &nbsp\;&nbsp\;&nbsp\;&nbsp\; Medals: Kids Dash &amp\; Age Group Winners<br /> &nbsp\;&nbsp\;&nbsp\;&nbsp\; Tables - 5 (registration/water stop/food/misc.)<br /> &nbsp\;&nbsp\;&nbsp\;&nbsp\; Chairs - 12<br /> &nbsp\;&nbsp\;&nbsp\;&nbsp\;&nbsp\; Race Numbers &amp\; Pins<br /> &nbsp\;&nbsp\;&nbsp\;&nbsp\; Misc.- Trash Bags/Broom/Paper Cups/Latex Gloves/<br /> &nbsp\;&nbsp\;&nbsp\;&nbsp\; WAWA<br /> &nbsp\;&nbsp\;&nbsp\;&nbsp\; Ravitz - Shop Rite<br /> &nbsp\;&nbsp\;&nbsp\;&nbsp\; Pretzells<br /> &nbsp\;&nbsp\;&nbsp\;&nbsp\; New Balance <br /> &nbsp\;&nbsp\;&nbsp\;&nbsp\; Brooks<br /> &nbsp\;&nbsp\;&nbsp\;&nbsp\; REI<br /> &nbsp\;&nbsp\;&nbsp\;&nbsp\; McDonald&rsquo\;s<br /> &nbsp\;&nbsp\;&nbsp\;&nbsp\; Mansion<br /> &nbsp\;&nbsp\;&nbsp\;&nbsp\; Little Mill CC - Golf Foursome<br /> &nbsp\;&nbsp\;&nbsp\;&nbsp\; Heineken Beer -&nbsp\;Bob Cain<br /> &nbsp\;&nbsp\;&nbsp\;&nbsp\; Dunkin Donuts - Qamara Edwards<br /> <br /> 6. Volunteers<br /> &nbsp\;</p> <p>&nbsp\;</p>
LOCATION:114 Haddontowne Court Cherry Hill\, NJ 08034
UID:e.9292.1081
SEQUENCE:3
DTSTAMP:20260422T023707Z
URL:https://members.blsj.com/events/details/charitable-foundation-run-for-our-troops-5k-run-walk-sub-committee-meeting-09-10-2009-09-10-2009-1081
END:VEVENT

END:VCALENDAR
