BEGIN:VCALENDAR
VERSION:2.0
PRODID:-//ChamberMaster//Event Calendar 2.0//EN
METHOD:PUBLISH
X-PUBLISHED-TTL:P3D
REFRESH-INTERVAL:P3D
CALSCALE:GREGORIAN
BEGIN:VEVENT
DTSTART:20061012T160000Z
DTEND:20061012T160000Z
X-MICROSOFT-CDO-ALLDAYEVENT:FALSE
SUMMARY:Charitable Foundation Committee Meeting - 10/12/2006
DESCRIPTION:Agenda: \n 1. Financial Report \n 2. Requests for Assistance\n 3. Vision Statement Development \n 4. Strategic Plan\n 5. Joseph S. Van Osten Lifetime Achievement Award Nominations\n 6. New Business\n     Map Program
X-ALT-DESC;FMTTYPE=text/html:Agenda:&nbsp\;<br /> 1. Financial Report&nbsp\;<br /> 2.&nbsp\;Requests for Assistance<br /> 3.&nbsp\;Vision Statement Development&nbsp\;<br /> 4. Strategic Plan<br /> 5. Joseph S. Van Osten Lifetime Achievement Award Nominations<br /> 6. New Business<br /> &nbsp\;&nbsp\;&nbsp\; Map Program
LOCATION:\, NJ
UID:e.9292.685
SEQUENCE:3
DTSTAMP:20260421T235555Z
URL:https://members.blsj.com/events/details/charitable-foundation-committee-meeting-10-12-2006-10-12-2006-685
END:VEVENT

END:VCALENDAR
