BEGIN:VCALENDAR
VERSION:2.0
PRODID:-//ChamberMaster//Event Calendar 2.0//EN
METHOD:PUBLISH
X-PUBLISHED-TTL:P3D
REFRESH-INTERVAL:P3D
CALSCALE:GREGORIAN
BEGIN:VEVENT
DTSTART:20060914T160000Z
DTEND:20060914T160000Z
X-MICROSOFT-CDO-ALLDAYEVENT:FALSE
SUMMARY:Charitable Foundation Committee Meeting - 09/14/2006
DESCRIPTION:Agenda: \n 1. Financial Report \n 2. Requests for Assistance \n 3. Vision Statement Development \n 4. Strategic Plan Review\n 5. Joseph S. Van Osten Lifetime Achievement Award\n 6. New Business
X-ALT-DESC;FMTTYPE=text/html:Agenda:&nbsp\;<br /> 1. Financial Report&nbsp\;<br /> 2. Requests for Assistance&nbsp\;<br /> 3. Vision Statement Development&nbsp\;<br /> 4. Strategic Plan Review<br /> 5. Joseph S. Van Osten Lifetime Achievement Award<br /> 6. New Business
LOCATION:\, NJ
UID:e.9292.415
SEQUENCE:3
DTSTAMP:20260421T223412Z
URL:https://members.blsj.com/events/details/charitable-foundation-committee-meeting-09-14-2006-09-14-2006-415
END:VEVENT

END:VCALENDAR
