BEGIN:VCALENDAR
VERSION:2.0
PRODID:-//ChamberMaster//Event Calendar 2.0//EN
METHOD:PUBLISH
X-PUBLISHED-TTL:P3D
REFRESH-INTERVAL:P3D
CALSCALE:GREGORIAN
BEGIN:VEVENT
DTSTART:20090716T160000Z
DTEND:20090716T160000Z
X-MICROSOFT-CDO-ALLDAYEVENT:FALSE
SUMMARY:Charitable Foundation Committee Meeting - 07/16/2009
DESCRIPTION:MEMO TO: BLSJ Charitable Foundation Trustees FROM: Perri Wachter\, President   \n SUBJECT: Foundation Meeting  \n DATE: Thursday\, July 16\, 2009\n   AGENDA:  1. Mission Statement:\n THE MISSION OF THE CHARITABLE FOUNDATION OF THE BUILDERS LEAGUE OF SOUTH JERSEY IS TO PROVIDE SHELTER RELATED ASSISTANCE AND TO SUPPORT CHARITIES WITH SIMILAR NEEDS WITHIN THE COMMUNITIES WE SERVE 2. Conflict of Interest Statement 3. Homes for Our Troops 5K Race/Walk   Update   M. Spencer/S. Thames\n Saturday\, September 12th\, 2009   Cooper River Park 4. New Business
X-ALT-DESC;FMTTYPE=text/html:<p><br /> MEMO TO: BLSJ Charitable Foundation Trustees</p> <p>FROM: Perri Wachter\, President&nbsp\;&nbsp\;&nbsp\;<br /> SUBJECT: Foundation Meeting&nbsp\;&nbsp\;<br /> <strong><span style="font-size: small"><span style="color: #ff0000">DATE:&nbsp\;Thursday\, July 16\, 2009</span></span></strong><br /> &nbsp\;</p> <p><strong>AGENDA: </strong></p> <p>1. Mission Statement:<br /> THE MISSION OF THE CHARITABLE FOUNDATION OF THE BUILDERS LEAGUE OF SOUTH JERSEY IS TO PROVIDE SHELTER RELATED ASSISTANCE AND TO SUPPORT CHARITIES WITH SIMILAR NEEDS WITHIN THE COMMUNITIES WE SERVE</p> <p>2. Conflict of Interest Statement</p> <p>3. Homes for Our Troops 5K Race/Walk &ndash\; Update &ndash\; M. Spencer/S. Thames<br /> Saturday\, September 12th\, 2009 &ndash\; Cooper River Park</p> <p>4. New Business</p> <p>&nbsp\;</p>
LOCATION:114 Haddontowne Court Cherry Hill\, NJ 08034
UID:e.9292.285
SEQUENCE:3
DTSTAMP:20260422T052803Z
URL:https://members.blsj.com/events/details/charitable-foundation-committee-meeting-07-16-2009-07-16-2009-285
END:VEVENT

END:VCALENDAR
