BEGIN:VCALENDAR
VERSION:2.0
PRODID:-//ChamberMaster//Event Calendar 2.0//EN
METHOD:PUBLISH
X-PUBLISHED-TTL:P3D
REFRESH-INTERVAL:P3D
CALSCALE:GREGORIAN
BEGIN:VEVENT
DTSTART:20090514T160000Z
DTEND:20090514T160000Z
X-MICROSOFT-CDO-ALLDAYEVENT:FALSE
SUMMARY:Charitable Foundation Committee Meeting - 05/14/2009
DESCRIPTION:MEMO TO: BLSJ Charitable Foundation Trustees FROM: Perri Wachter\, President   \n SUBJECT: Foundation Meeting  \n DATE: Thursday\, May 14\, 2009   \n TIME: 9:00 a.m.  \n PLACE: League Office AGENDA:  1. Mission Statement:\n THE MISSION OF THE CHARITABLE FOUNDATION OF THE BUILDERS LEAGUE OF SOUTH JERSEY IS TO PROVIDE SHELTER RELATED ASSISTANCE AND TO SUPPORT CHARITIES WITH SIMILAR NEEDS WITHIN THE COMMUNITIES WE SERVE 2. Conflict of Interest Statement 3. Adoption of February 12\, 2009 Minutes 4. Financial Report 5. Requests for Assistance\n a. Vicki Trembel   Specialty Supply: request on hold\n b. Diane Allen - VFW Hall\, Burlington\, NJ\n \n 6. Ambassador for Housing 7. Homes for Our Troops 5K Race/Walk   Update   M. Spencer/S. Thames\n Saturday\, September 12th\, 2009   Cooper River Park 8. Old Business\n      a. Atlantic Co. Habitat House   Update   Bob Brown\n      b. Metro Camden Habitat   Update   Jason Schaeffer 9. New Business
X-ALT-DESC;FMTTYPE=text/html:<p><br /> MEMO TO: BLSJ Charitable Foundation Trustees</p> <p>FROM: Perri Wachter\, President&nbsp\;&nbsp\;&nbsp\;<br /> SUBJECT: Foundation Meeting&nbsp\;&nbsp\;<br /> DATE: Thursday\, May 14\, 2009&nbsp\;&nbsp\;&nbsp\;<br /> TIME: 9:00 a.m.&nbsp\;&nbsp\;<br /> PLACE: League Office</p> <p><strong>AGENDA: </strong></p> <p>1. Mission Statement:<br /> THE MISSION OF THE CHARITABLE FOUNDATION OF THE BUILDERS LEAGUE OF SOUTH JERSEY IS TO PROVIDE SHELTER RELATED ASSISTANCE AND TO SUPPORT CHARITIES WITH SIMILAR NEEDS WITHIN THE COMMUNITIES WE SERVE</p> <p>2. Conflict of Interest Statement</p> <p>3. Adoption of February 12\, 2009 Minutes</p> <p>4. Financial Report</p> <p>5. Requests for Assistance<br /> a. Vicki Trembel &ndash\; Specialty Supply: request on hold<br /> b. Diane Allen - VFW Hall\, Burlington\, NJ<br /> <br /> 6. Ambassador for Housing</p> <p>7. Homes for Our Troops 5K Race/Walk &ndash\; Update &ndash\; M. Spencer/S. Thames<br /> Saturday\, September 12th\, 2009 &ndash\; Cooper River Park</p> <p>8. Old Business<br /> &nbsp\;&nbsp\;&nbsp\;&nbsp\; a.&nbsp\;Atlantic Co. Habitat House &ndash\; Update &ndash\; Bob Brown<br /> &nbsp\;&nbsp\;&nbsp\;&nbsp\; b. Metro Camden Habitat &ndash\; Update &ndash\; Jason Schaeffer</p> <p>9. New Business</p> <p>&nbsp\;</p>
LOCATION:114 Haddontowne Court Cherry Hill\, NJ 08034
UID:e.9292.946
SEQUENCE:3
DTSTAMP:20260422T075723Z
URL:https://members.blsj.com/events/details/charitable-foundation-committee-meeting-05-14-2009-05-14-2009-946
END:VEVENT

END:VCALENDAR
