BEGIN:VCALENDAR
VERSION:2.0
PRODID:-//ChamberMaster//Event Calendar 2.0//EN
METHOD:PUBLISH
X-PUBLISHED-TTL:P3D
REFRESH-INTERVAL:P3D
CALSCALE:GREGORIAN
BEGIN:VEVENT
DTSTART:20100513T160000Z
DTEND:20100513T160000Z
X-MICROSOFT-CDO-ALLDAYEVENT:FALSE
SUMMARY:Charitable Foundation Committee Meeting - 05/13/2010
DESCRIPTION:AGENDA: 1. Mission Statement:\n THE MISSION OF THE CHARITABLE FOUNDATION OF THE BUILDERS LEAGUE OF SOUTH JERSEY IS TO PROVIDE SHELTER RELATED ASSISTANCE AND TO SUPPORT CHARITIES WITH SIMILAR NEEDS WITHIN THE COMMUNITIES WE SERVE\n 2. Adoption of January 14\, 2010\, Minutes\n 3. Financial Report\n 4. Charles Kojeski - President of Kojeski Construction...was the recipient of the NJBA Foundation for Housing Awarded Accessibility Grant\n  for $10\,000 to improve accessibility for a 9 Year year old girl with cerebral palsy.\n 5. Requests for Assistance\n a) National Multiple Sclerosis Society\, Greater Delaware Valley Chapter - Volunteer Project  \n b) Crossroads Programs\n 6. Ambassador for Housing\n 7. Old Business\n a. Stratton Family Update: Dave Robinson\; Charles Kojeski\n b. Riversharks Update: Dave Robinson\n 8. Homes for Our Troops 5K Run/Walk   September 11\, 2011   Susan Thames\n     a. Fundraising - Review Sponsor Form\n     b. Sponsorships to date\n     c. Animoto\; Social Media to Promote Race\n     d. Posters\n     e. Public Transit Poster\n 9. New Business\n     a. Camden/Gloucester County Habitat for Humanity Update - R. Van Osten
X-ALT-DESC;FMTTYPE=text/html:<p>AGENDA:</p> <p>1. Mission Statement:<br /> THE MISSION OF THE CHARITABLE FOUNDATION OF THE BUILDERS LEAGUE OF SOUTH JERSEY IS TO PROVIDE SHELTER RELATED ASSISTANCE AND TO SUPPORT CHARITIES WITH SIMILAR NEEDS WITHIN THE COMMUNITIES WE SERVE<br /> 2. Adoption of January 14\, 2010\, Minutes<br /> 3. Financial Report<br /> 4. Charles Kojeski - President of Kojeski Construction...was the recipient of the NJBA Foundation for Housing&nbsp\;Awarded&nbsp\;Accessibility Grant<br /> &nbsp\;for $10\,000 to improve accessibility for a 9 Year year old girl with cerebral palsy.<br /> 5. Requests for Assistance<br /> a) National Multiple Sclerosis Society\, Greater Delaware Valley Chapter - Volunteer Project&nbsp\;&nbsp\;<br /> b) Crossroads Programs<br /> 6. Ambassador for Housing<br /> 7. Old Business<br /> a. Stratton Family Update: Dave Robinson\; Charles Kojeski<br /> b. Riversharks Update: Dave Robinson<br /> 8. Homes for Our Troops 5K Run/Walk &ndash\; September 11\, 2011 &ndash\; Susan Thames<br /> &nbsp\;&nbsp\;&nbsp\;&nbsp\;a. Fundraising - Review Sponsor Form<br /> &nbsp\;&nbsp\;&nbsp\; b. Sponsorships to date<br /> &nbsp\;&nbsp\;&nbsp\; c. Animoto\; Social Media to Promote Race<br /> &nbsp\;&nbsp\;&nbsp\; d. Posters<br /> &nbsp\;&nbsp\;&nbsp\; e. Public Transit Poster<br /> 9. New Business<br /> &nbsp\;&nbsp\;&nbsp\; a. Camden/Gloucester County Habitat for Humanity Update - R. Van Osten</p> <p><br /> &nbsp\;</p>
LOCATION:114 Haddontowne Court Cherry Hill\, NJ 08034
UID:e.9292.414
SEQUENCE:3
DTSTAMP:20260421T165028Z
URL:https://members.blsj.com/events/details/charitable-foundation-committee-meeting-05-13-2010-05-13-2010-414
END:VEVENT

END:VCALENDAR
