BEGIN:VCALENDAR
VERSION:2.0
PRODID:-//ChamberMaster//Event Calendar 2.0//EN
METHOD:PUBLISH
X-PUBLISHED-TTL:P3D
REFRESH-INTERVAL:P3D
CALSCALE:GREGORIAN
BEGIN:VEVENT
DTSTART:20070315T160000Z
DTEND:20070315T160000Z
X-MICROSOFT-CDO-ALLDAYEVENT:FALSE
SUMMARY:Charitable Foundation Committee Meeting - 03/15/2007
DESCRIPTION:Adoption of January 11\, 2007 Minutes   3.         Re-Cap Chairman's Committee Meeting    4.         Financial Report   5.         Critical Issues Facing the BLSJ   6.         Vision Statement   7.                  Requests for Assistance             a. Maureen DePrince (letter carrier)/Extreme Home Makeover   8.                  Ambassador for Housing   9.          Old Business                         a. MEND Project Update   10.        New Business                                                                        a. Metro Camden Habitat
X-ALT-DESC;FMTTYPE=text/html:<div style="margin: 0in 0in 0pt 0.5in\; text-indent: -0.5in\;"><span style="font-size: 11pt\; color: black\;">Adoption of January 11\, 2007 Minutes</span></div> <div style="margin: 0in 0in 0pt\;">&nbsp\;</div> <div style="margin: 0in 0in 0pt 0.5in\; text-indent: -0.5in\;"><span style="font-size: 11pt\; color: black\;">3.<span>&nbsp\;&nbsp\;&nbsp\;&nbsp\;&nbsp\;&nbsp\;&nbsp\;&nbsp\; Re-Cap Chairman&rsquo\;s Committee Meeting </span></span></div> <div style="margin: 0in 0in 0pt\;">&nbsp\;</div> <div style="margin: 0in 0in 0pt 0.5in\; text-indent: -0.5in\;"><span style="font-size: 11pt\; color: black\;">4.<span>&nbsp\;&nbsp\;&nbsp\;&nbsp\;&nbsp\;&nbsp\;&nbsp\;&nbsp\; Financial Report</span></span></div> <div style="margin: 0in 0in 0pt\;">&nbsp\;</div> <div style="margin: 0in 0in 0pt 0.5in\; text-indent: -0.5in\;"><span style="font-size: 11pt\; color: black\;">5.<span>&nbsp\;&nbsp\;&nbsp\;&nbsp\;&nbsp\;&nbsp\;&nbsp\;&nbsp\; Critical Issues Facing the BLSJ</span></span></div> <div style="margin: 0in 0in 0pt\;">&nbsp\;</div> <div style="margin: 0in 0in 0pt 0.5in\; text-indent: -0.5in\;"><span style="font-size: 11pt\; color: black\;">6.<span>&nbsp\;&nbsp\;&nbsp\;&nbsp\;&nbsp\;&nbsp\;&nbsp\;&nbsp\; Vision Statement</span></span></div> <div style="margin: 0in 0in 0pt 0.25in\;">&nbsp\;</div> <div style="margin: 0in 0in 0pt 0.5in\; text-indent: -0.5in\;"><span style="font-size: 11pt\; color: black\;"><span>7.<span style="font-family: Â’Times New RomanÂ’\; font-style: normal\; font-variant: normal\; font-weight: normal\; font-size: 7pt\; line-height: normal\; font-size-adjust: none\; font-stretch: normal\;">&nbsp\;&nbsp\;&nbsp\;&nbsp\;&nbsp\;&nbsp\;&nbsp\;&nbsp\;&nbsp\;&nbsp\;&nbsp\;&nbsp\;&nbsp\;&nbsp\;&nbsp\;&nbsp\;&nbsp\; </span></span></span><span style="font-size: 11pt\; color: black\;">Requests for Assistance</span></div> <div style="margin: 0in 0in 0pt 0.5in\;"><span style="font-size: 11pt\; color: black\;"><span>&nbsp\;&nbsp\;&nbsp\;&nbsp\;&nbsp\;&nbsp\;&nbsp\;&nbsp\;&nbsp\;&nbsp\;&nbsp\; a. Maureen DePrince (letter carrier)/Extreme Home Makeover</span></span></div> <div style="margin: 0in 0in 0pt 0.5in\;">&nbsp\;</div> <div style="margin: 0in 0in 0pt\; text-indent: 0in\;"><span style="font-size: 11pt\; color: black\;"><span>8.<span style="font-family: Â’Times New RomanÂ’\; font-style: normal\; font-variant: normal\; font-weight: normal\; font-size: 7pt\; line-height: normal\; font-size-adjust: none\; font-stretch: normal\;">&nbsp\;&nbsp\;&nbsp\;&nbsp\;&nbsp\;&nbsp\;&nbsp\;&nbsp\;&nbsp\;&nbsp\;&nbsp\;&nbsp\;&nbsp\;&nbsp\;&nbsp\;&nbsp\;&nbsp\; </span></span></span><span style="font-size: 11pt\; color: black\;">Ambassador for Housing</span></div> <div style="margin: 0in 0in 0pt 0.25in\;">&nbsp\;</div> <div style="margin: 0in 0in 0pt\;"><span style="font-size: 11pt\; color: black\;">9.<span>&nbsp\;&nbsp\;&nbsp\;&nbsp\;&nbsp\;&nbsp\;&nbsp\;&nbsp\;&nbsp\; Old Business</span></span></div> <div style="margin: 0in 0in 0pt\;"><span style="font-size: 11pt\; color: black\;"><span>&nbsp\;&nbsp\;&nbsp\;&nbsp\;&nbsp\;&nbsp\;&nbsp\;&nbsp\;&nbsp\;&nbsp\;&nbsp\;&nbsp\;&nbsp\;&nbsp\;&nbsp\;&nbsp\;&nbsp\;&nbsp\;&nbsp\;&nbsp\;&nbsp\;&nbsp\;&nbsp\; a. MEND Project Update</span></span></div> <div style="margin: 0in 0in 0pt\;">&nbsp\;</div> <div style="margin: 0in 0in 0pt 0.5in\; text-indent: -0.5in\;"><span style="font-size: 11pt\; color: black\;">10.<span>&nbsp\;&nbsp\;&nbsp\;&nbsp\;&nbsp\;&nbsp\; &nbsp\;New Business &nbsp\;&nbsp\;&nbsp\;&nbsp\;&nbsp\;&nbsp\;&nbsp\;&nbsp\;&nbsp\; </span></span><span style="font-size: 10pt\; color: black\;"><span>&nbsp\;&nbsp\;&nbsp\;&nbsp\;&nbsp\;&nbsp\;&nbsp\;&nbsp\;&nbsp\;&nbsp\;&nbsp\;&nbsp\;&nbsp\;&nbsp\;&nbsp\;&nbsp\;&nbsp\;&nbsp\;&nbsp\;&nbsp\;&nbsp\;&nbsp\;&nbsp\;&nbsp\;&nbsp\;&nbsp\;&nbsp\;&nbsp\;&nbsp\;&nbsp\;&nbsp\;&nbsp\;&nbsp\;&nbsp\;&nbsp\; </span></span></div> <div style="margin: 0in 0in 0pt\;"><span style="font-size: 10pt\; color: black\;"><span>&nbsp\;&nbsp\;&nbsp\;&nbsp\;&nbsp\;&nbsp\;&nbsp\;&nbsp\;&nbsp\;&nbsp\;&nbsp\;&nbsp\;&nbsp\;&nbsp\;&nbsp\;&nbsp\;&nbsp\;&nbsp\;&nbsp\;&nbsp\;&nbsp\;&nbsp\;&nbsp\; </span></span><span style="font-size: 11pt\; color: black\;">a. Metro Camden Habitat</span></div> <div style="margin: 0in 0in 0pt\;">&nbsp\;</div>
LOCATION:\, NJ
UID:e.9292.1073
SEQUENCE:3
DTSTAMP:20260422T075014Z
URL:https://members.blsj.com/events/details/charitable-foundation-committee-meeting-03-15-2007-03-15-2007-1073
END:VEVENT

END:VCALENDAR
