BEGIN:VCALENDAR
VERSION:2.0
PRODID:-//ChamberMaster//Event Calendar 2.0//EN
METHOD:PUBLISH
X-PUBLISHED-TTL:P3D
REFRESH-INTERVAL:P3D
CALSCALE:GREGORIAN
BEGIN:VEVENT
DTSTART:20100114T170000Z
DTEND:20100114T170000Z
X-MICROSOFT-CDO-ALLDAYEVENT:FALSE
SUMMARY:Charitable Foundation Committee Meeting - 01/14/2010
DESCRIPTION:December 23\, 2009\n \n MEMO TO: BLSJ Charitable Foundation Trustees \n FROM: Perri Wachter\, President \n SUBJECT: Foundation Meeting\n DATE: Thursday\, January 14\, 2010 TIME: 9:00 a.m. PLACE: League Office AGENDA: 1. Mission Statement:\n THE MISSION OF THE CHARITABLE FOUNDATION OF THE BUILDERS LEAGUE OF SOUTH JERSEY IS TO PROVIDE SHELTER RELATED ASSISTANCE AND TO SUPPORT CHARITIES WITH SIMILAR NEEDS WITHIN THE COMMUNITIES WE SERVE 2. Adoption of November 2009\, Minutes 3. Financial Report 4. Requests for Assistance\n a) Stratton Family\n \n 5. Ambassador for Housing 6. Old Business\n a. Family Services: Holiday Toy Drive & Food Drive - Re-cap\n b. Charitable Contributions for 2009 \n c. Community Food Bank of NJ - None\n d. Food Bank of South Jersey - None\n e. Metropolitan Camden Habitat of Humanity - $1\,000.00\n f. Gloucester County Habitat for Humanity - $1\,000.00\n g. Habitat for Humanity Atlantic County Inc - none\n h. Cumberland County Habitat for Humanity - $1\,000.00\n i. Habitat For Humanity Cape May County   $1\,000.00\n j. Habitat For Humanity Burlington County - $1\,000.00\n k. Covenant House Atlantic City - None\n Total 2009 Contibutions = $5\,000.00 7. New Business\n a. Homes for Our Troops 5K Run/Walk\n \n cc: W. Ziegenfuss
X-ALT-DESC;FMTTYPE=text/html:<p>December 23\, 2009<br /> <br /> MEMO TO: BLSJ Charitable Foundation Trustees <br /> FROM: Perri Wachter\, President <br /> SUBJECT: Foundation Meeting<br /> DATE: Thursday\, January 14\, 2010</p> <p>TIME: 9:00 a.m.</p> <p>PLACE: League Office</p> <p>AGENDA:</p> <p>1. Mission Statement:<br /> THE MISSION OF THE CHARITABLE FOUNDATION OF THE BUILDERS LEAGUE OF SOUTH JERSEY IS TO PROVIDE SHELTER RELATED ASSISTANCE AND TO SUPPORT CHARITIES WITH SIMILAR NEEDS WITHIN THE COMMUNITIES WE SERVE</p> <p>2. Adoption of November 2009\, Minutes</p> <p>3. Financial Report</p> <p>4. Requests for Assistance<br /> a) Stratton Family<br /> <br /> 5. Ambassador for Housing</p> <p>6. Old Business<br /> a. Family Services: Holiday Toy Drive &amp\; Food Drive - Re-cap<br /> b. Charitable Contributions for 2009 <br /> c. Community Food Bank of NJ - None<br /> d. Food Bank of South Jersey - None<br /> e. Metropolitan Camden Habitat of Humanity - $1\,000.00<br /> f. Gloucester County Habitat for Humanity - $1\,000.00<br /> g. Habitat for Humanity Atlantic County Inc - none<br /> h. Cumberland County Habitat for Humanity - $1\,000.00<br /> i. Habitat For Humanity Cape May County &ndash\; $1\,000.00<br /> j. Habitat For Humanity Burlington County - $1\,000.00<br /> k. Covenant House Atlantic City - None<br /> Total 2009 Contibutions = $5\,000.00</p> <p>7. New Business<br /> a. Homes for Our Troops 5K Run/Walk<br /> <br /> cc: W. Ziegenfuss</p>
LOCATION:114 Haddontowne Court Cherry Hill\, NJ 08034
UID:e.9292.948
SEQUENCE:3
DTSTAMP:20260421T211348Z
URL:https://members.blsj.com/events/details/charitable-foundation-committee-meeting-01-14-2010-01-14-2010-948
END:VEVENT

END:VCALENDAR
