BEGIN:VCALENDAR
VERSION:2.0
PRODID:-//ChamberMaster//Event Calendar 2.0//EN
METHOD:PUBLISH
X-PUBLISHED-TTL:P3D
REFRESH-INTERVAL:P3D
CALSCALE:GREGORIAN
BEGIN:VEVENT
DTSTART:20070308T230000Z
DTEND:20070308T170000Z
X-MICROSOFT-CDO-ALLDAYEVENT:FALSE
SUMMARY:CGA Certified Graduate Associate: Scheduling
DESCRIPTION:Builders\, remodelers and superintendents will learn through this course how to improve planning and scheduling skills and use them to increase efficiency and simplify site management. Participants will learn how to create a plan\, build a schedule\, and use planning and scheduling tools to manage a project even when nothing goes according to plan. Approved for CGB\, CGR and CGA credit. \n \n Designations: CGA\, CGB\, CGR
X-ALT-DESC;FMTTYPE=text/html:<p><font lang="0" face="Comic Sans MS" color="#000000">Builders\, remodelers and superintendents will learn through this course how to improve planning and scheduling skills and use them to increase efficiency and simplify site management. Participants will learn how to create a plan\, build a schedule\, and use planning and scheduling tools to manage a project even when nothing goes according to plan. Approved for CGB\, CGR and CGA credit. <br /> <br /> Designations: CGA\, CGB\, CGR <br /> </font></p>
LOCATION:Builders league of South Jersey 114 Haddontowne Ct Cherry Hill\, NJ 08034
UID:e.9292.279
SEQUENCE:3
DTSTAMP:20260422T063553Z
URL:https://members.blsj.com/events/details/cga-certified-graduate-associate-scheduling-03-08-2007-279
END:VEVENT

END:VCALENDAR
