BEGIN:VCALENDAR
VERSION:2.0
PRODID:-//ChamberMaster//Event Calendar 2.0//EN
METHOD:PUBLISH
X-PUBLISHED-TTL:P3D
REFRESH-INTERVAL:P3D
CALSCALE:GREGORIAN
BEGIN:VEVENT
DTSTART:20061214T230000Z
DTEND:20061214T170000Z
X-MICROSOFT-CDO-ALLDAYEVENT:FALSE
SUMMARY:CGA-Certified Graduate Assoc.- Sales & Marketing
DESCRIPTION:Course Description: You'll learn how to research the marketplace\, choose the optimal location\, product and price\, generate buyers through effective promotion and and close the maximum number of sales. This class is part of the Certified Graduate Associate designation and is a required class. This course is approved for Continuing Education credit for: CAPS\, CGA\,CGB\,CGR\, GMB\, Master CSP\, CMP\, and MIRM Instructor: Richard Pagotto
X-ALT-DESC;FMTTYPE=text/html:Course Description: You&rsquo\;ll learn how to research the marketplace\, choose the optimal location\, product and price\, generate buyers through effective promotion and and close the maximum number of sales. This class is part of the Certified Graduate Associate designation and is a required class. This course is approved for Continuing Education credit for: CAPS\, CGA\,CGB\,CGR\, GMB\, Master CSP\, CMP\, and MIRM Instructor: Richard Pagotto
LOCATION:Builders League of South Jersey 114 Haddontowne Ct Cherry Hill\, NJ 08034
UID:e.9292.162
SEQUENCE:3
DTSTAMP:20260422T023522Z
URL:https://members.blsj.com/events/details/cga-certified-graduate-assoc-sales-marketing-12-14-2006-162
END:VEVENT

END:VCALENDAR
