BEGIN:VCALENDAR
VERSION:2.0
PRODID:-//ChamberMaster//Event Calendar 2.0//EN
METHOD:PUBLISH
X-PUBLISHED-TTL:P3D
REFRESH-INTERVAL:P3D
CALSCALE:GREGORIAN
BEGIN:VEVENT
DTSTART:20061116T230000Z
DTEND:20061116T170000Z
X-MICROSOFT-CDO-ALLDAYEVENT:FALSE
SUMMARY:CGA-Certified Graduate Assoc. - Customer Service
DESCRIPTION:Course Description: Make your business grow by keeping your clients happy during and after the sale. This course teaches you how to manage every phase of customer interaction from the initial contact through construction\, the warranty period\, and beyond. Success in home building requires more than skill with sticks and bricks\, it requires people skills as well. Keep your customers satisfied with planning\, execution\, and follow-up of your projects and they'll be spreading good news about you and your building company for a long time to come. This class is part of the Certified Graduate Associate designation and is a required class. This course is approved for Continuing Education credit for: CAPS\, CGA\,CGB\,CGR\, GMB\, Master CSP\, CMP\, and MIRM Instructor: Craig Deimler
X-ALT-DESC;FMTTYPE=text/html:Course Description: Make your business grow by keeping your clients happy during and after the sale. This course teaches you how to manage every phase of customer interaction from the initial contact through construction\, the warranty period\, and beyond. Success in home building requires more than skill with sticks and bricks\, it requires people skills as well. Keep your customers satisfied with planning\, execution\, and follow-up of your projects and they&rsquo\;ll be spreading good news about you and your building company for a long time to come. This class is part of the Certified Graduate Associate designation and is a required class. This course is approved for Continuing Education credit for: CAPS\, CGA\,CGB\,CGR\, GMB\, Master CSP\, CMP\, and MIRM Instructor: Craig Deimler
LOCATION:Builders League of South Jersey 114 Haddontowne Ct Cherry Hill\, NJ 08034
UID:e.9292.1070
SEQUENCE:3
DTSTAMP:20260422T011727Z
URL:https://members.blsj.com/events/details/cga-certified-graduate-assoc-customer-service-11-16-2006-1070
END:VEVENT

END:VCALENDAR
