BEGIN:VCALENDAR
VERSION:2.0
PRODID:-//ChamberMaster//Event Calendar 2.0//EN
METHOD:PUBLISH
X-PUBLISHED-TTL:P3D
REFRESH-INTERVAL:P3D
CALSCALE:GREGORIAN
BEGIN:VEVENT
DTSTART:20070111T230000Z
DTEND:20070111T170000Z
X-MICROSOFT-CDO-ALLDAYEVENT:FALSE
SUMMARY:CGA-Certified Graduate Assoc. - Business Acctg. & Job Costing
DESCRIPTION:Whether you are starting a new business or want to improve your current business\, this course can provide you with a variety of essential tools for your business management toolbox. This one-day course discusses:  1. The components of a business plan  2. defining and staffing your business  3. performance tools for managing and monitoring administration\, sales and production 4. strategies for managing common challenges experienced in startup businesses This class is part of the Certified Graduate Associate designation and is a required class. This course is approved for Continuing Education credit for: CAPS\, CGA\,CGB\,CGR\, GMB\, Master CSP\, CMP\, and MIRM Instructor - Bill Asdal
X-ALT-DESC;FMTTYPE=text/html:<p align="center">Whether you are starting a new business or want to improve your current business\, this course can provide you with a variety of essential tools for your business management toolbox. This one-day course discusses:</p> <p align="center">&nbsp\;1. The components of a business plan </p> <p align="center">2. defining and staffing your business </p> <p align="center">3. performance tools for managing and monitoring administration\, sales and production 4. strategies for managing common challenges experienced in startup businesses This class is part of the Certified Graduate Associate designation and is a required class. This course is approved for Continuing Education credit for: CAPS\, CGA\,CGB\,CGR\, GMB\, Master CSP\, CMP\, and MIRM Instructor - Bill Asdal </p>
LOCATION:Builders League of South Jersey 114 Haddontowne Ct Cherry Hill\, NJ 08034
UID:e.9292.280
SEQUENCE:3
DTSTAMP:20260422T040621Z
URL:https://members.blsj.com/events/details/cga-certified-graduate-assoc-business-acctg-job-costing-01-11-2007-280
END:VEVENT

END:VCALENDAR
