BEGIN:VCALENDAR
VERSION:2.0
PRODID:-//ChamberMaster//Event Calendar 2.0//EN
METHOD:PUBLISH
X-PUBLISHED-TTL:P3D
REFRESH-INTERVAL:P3D
CALSCALE:GREGORIAN
BEGIN:VEVENT
DTSTART:20050712T220000Z
DTEND:20050712T160000Z
X-MICROSOFT-CDO-ALLDAYEVENT:FALSE
SUMMARY:CERTIFIED NEW HOME SALES PROFESSIONAL CLASS (CSP) - Day 1
DESCRIPTION:DON'T MISS THIS OPPORTUNITY  Attention! Builders\, Realtors and Marketing Professionals! A 3-day Seminar to become a Super Seller!  The only National Designation for New Home Sales *Gain a Competitive Edge *Understand How the Home Building Business Works    *3 days of Hands-on Interactive Training *Taught by a Field of Industry Experts *Convenient Location *Succeed not Just Survive *Continuing Education Unit Credits  *CSP Designation   All-Inclusive Fee: Your registration includes all course materials\, coffee breaks\, continental breakfast and lunch for all days of the class.  Register Early\, limited seating available!
X-ALT-DESC;FMTTYPE=text/html:DON'T MISS THIS OPPORTUNITY  Attention! Builders\, Realtors and Marketing Professionals! A 3-day Seminar to become a Super Seller!  The only National Designation for New Home Sales *Gain a Competitive Edge *Understand How the Home Building Business Works    *3 days of Hands-on Interactive Training *Taught by a Field of Industry Experts *Convenient Location *Succeed not Just Survive *Continuing Education Unit Credits  *CSP Designation   All-Inclusive Fee: Your registration includes all course materials\, coffee breaks\, continental breakfast and lunch for all days of the class.  Register Early\, limited seating available!  
LOCATION:Builders League of South Jersey Cherry Hill\, NJ 08034
UID:e.9292.159
SEQUENCE:3
DTSTAMP:20260421T031016Z
URL:https://members.blsj.com/events/details/certified-new-home-sales-professional-class-csp-day-1-07-12-2005-159
END:VEVENT

END:VCALENDAR
