BEGIN:VCALENDAR
VERSION:2.0
PRODID:-//ChamberMaster//Event Calendar 2.0//EN
METHOD:PUBLISH
X-PUBLISHED-TTL:P3D
REFRESH-INTERVAL:P3D
CALSCALE:GREGORIAN
BEGIN:VEVENT
DTSTART:20050922T160000Z
DTEND:20050922T160000Z
X-MICROSOFT-CDO-ALLDAYEVENT:FALSE
SUMMARY:CERTIFIED AGING-IN-PLACE SPECIALIST COURSE (CAPS)Mktg to Older Ad
DESCRIPTION:Working With & Marketing To Older Adults NAHB approved Course Instructor Louis Tenenbaum\, CAPS      The three-course Certified Aging-in-Place (CAPS) designation program teaches the strategies & techniques for marketing\, designing and building aesthetically enriching\, barrier free living environments.  This program goes beyond universal design\, CAPS addresses the communication and technical needs of this market.  CAPS adds value to that knowledge by providing insights into marketing and working with older adults.       Earn Designation Credit for: CAPS    Earn Continuing Credits for: CGA\, CGB\, CGR\, GMB    Approved for: .7 CEU's  by ASID\, IDC\, IDEC\, IIDA\, NKBA
X-ALT-DESC;FMTTYPE=text/html:Working With & Marketing To Older Adults NAHB approved Course Instructor Louis Tenenbaum\, CAPS      The three-course Certified Aging-in-Place (CAPS) designation program teaches the strategies & techniques for marketing\, designing and building aesthetically enriching\, barrier free living environments.  This program goes beyond universal design\, CAPS addresses the communication and technical needs of this market.  CAPS adds value to that knowledge by providing insights into marketing and working with older adults.       Earn Designation Credit for: CAPS    Earn Continuing Credits for: CGA\, CGB\, CGR\, GMB    Approved for: .7 CEU's  by ASID\, IDC\, IDEC\, IIDA\, NKBA   
LOCATION:Builders League of South Jersey 114 Haddontowne Ct Cherry Hill\, NJ 08034
UID:e.9292.395
SEQUENCE:3
DTSTAMP:20260421T055631Z
URL:https://members.blsj.com/events/details/certified-aging-in-place-specialist-course-caps-mktg-to-older-ad-09-22-2005-395
END:VEVENT

END:VCALENDAR
