BEGIN:VCALENDAR
VERSION:2.0
PRODID:-//ChamberMaster//Event Calendar 2.0//EN
METHOD:PUBLISH
X-PUBLISHED-TTL:P3D
REFRESH-INTERVAL:P3D
CALSCALE:GREGORIAN
BEGIN:VEVENT
DTSTART:20050908T160000Z
DTEND:20050908T160000Z
X-MICROSOFT-CDO-ALLDAYEVENT:FALSE
SUMMARY:CERTIFIED AGING-IN-PLACE SPECIALIST COURSE (CAPS)Intro Bus Mgmt
DESCRIPTION:Introduction To Business Management NAHB approved Course Instructor  Bill Asdal\, CAPS  Learn strategies and techniques for building a competitive\, sustainable business through case studies and interactive exercises.
X-ALT-DESC;FMTTYPE=text/html:Introduction To Business Management NAHB approved Course Instructor  Bill Asdal\, CAPS  Learn strategies and techniques for building a competitive\, sustainable business through case studies and interactive exercises. 
LOCATION:Builders League of South Jersey 114 Haddontowne Ct Cherry Hill\, NJ 08034
UID:e.9292.682
SEQUENCE:3
DTSTAMP:20260421T055539Z
URL:https://members.blsj.com/events/details/certified-aging-in-place-specialist-course-caps-intro-bus-mgmt-09-08-2005-682
END:VEVENT

END:VCALENDAR
