BEGIN:VCALENDAR
VERSION:2.0
PRODID:-//ChamberMaster//Event Calendar 2.0//EN
METHOD:PUBLISH
X-PUBLISHED-TTL:P3D
REFRESH-INTERVAL:P3D
CALSCALE:GREGORIAN
BEGIN:VEVENT
DTSTART:20050929T160000Z
DTEND:20050929T160000Z
X-MICROSOFT-CDO-ALLDAYEVENT:FALSE
SUMMARY:CERTIFIED AGING-IN-PLACE SPECIALIST COURSE (CAPS)Home Modifications
DESCRIPTION:Home Modifications NAHB approved Course Instructor  Louis Tenenbaum\, CAPS   This course will teach you about the codes and standards\, common barriers and solutions\, and product ideas and solutions involved in residential remodeling for the aging in place consumer. Benefits of a CAPS Designation:    Recognition for completing the only designation program in the country dedicated to improving the knowledge of those who want to serve the fastest growing segment of the residential housing market.    Marketing and customer service tools to gain access to the burgeoning aging in place market    Greater understanding of the aging in place population     Earn Designation Credits for: CMP\, MIRM    Earn Continuing Education Credit for: CAPS\, CGA\, CGB\, CGR\, GMB    Approved for .7 CEU's by ASID\, IDC\, IDEC\, IIDA\,NKBA
X-ALT-DESC;FMTTYPE=text/html:Home Modifications NAHB approved Course Instructor  Louis Tenenbaum\, CAPS   This course will teach you about the codes and standards\, common barriers and solutions\, and product ideas and solutions involved in residential remodeling for the aging in place consumer. Benefits of a CAPS Designation:    Recognition for completing the only designation program in the country dedicated to improving the knowledge of those who want to serve the fastest growing segment of the residential housing market.    Marketing and customer service tools to gain access to the burgeoning aging in place market    Greater understanding of the aging in place population     Earn Designation Credits for: CMP\, MIRM    Earn Continuing Education Credit for: CAPS\, CGA\, CGB\, CGR\, GMB    Approved for .7 CEU's by ASID\, IDC\, IDEC\, IIDA\,NKBA 
LOCATION:Builders League of South Jersey 114 Haddontowne Ct Cherry Hill\, NJ 08034
UID:e.9292.275
SEQUENCE:3
DTSTAMP:20260421T055334Z
URL:https://members.blsj.com/events/details/certified-aging-in-place-specialist-course-caps-home-modifications-09-29-2005-275
END:VEVENT

END:VCALENDAR
